Workbook

Sheet Encargos
A2: ANEXO IX . 1 - ENCARGOS
A4: Item | B4: Descrição | C4: Percentual / Valor | D4: Memória de cálculo / Observações
A6: Grupo A - Encargos sociais básicos
A7: A .01 | B7: INSS | C7: 0.2 | D7: INSS - Artigo 22 Inciso I Lei 8.212/91
A8: A .02 | B8: FGTS | C8: 0.08 | D8: FGTS - Artigo 15 Lei 8030/90 e Art. 7º Inciso III CF/88
A9: A .03 | B9: SESI / SESC | C9: 0.015 | D9: SESC - Artigo 3º Lei 8.036/90
A10: A .04 | B10: SENAI / SENAC | C10: 0.01 | D10: SENAI/SENAC - Decreto 2.318/86
A11: A .05 | B11: INCRA | C11: 0.002 | D11: INCRA - Lei 7787/89 e DL 1146/70
A12: A .06 | B12: SEBRAE | C12: 0.006 | D12: SEBRAE - Artigo 8º Lei 8029/90 e Lei 8154/90
A13: A .07 | B13: Salário Educação | C13: 0.025 | D13: Salário Educação - Artigo 3º Inciso I Decreto 87.043/82
A14: A .08 | B14: Riscos Ambientais do Trabalho (RAT x FAP) | C14: 0.06 | D14: Riscos Ambientais de Trabalho/INSS
A15: Subtotal do Grupo A | C15: =SUM(C7:C14) -> 0.398
A17: Grupo B - Encargos que recebem a incidência do grupo A
A18: B .01 | B18: 13º salário | C18: 0.08333 | D18: Cálculo: [( 1/12) x 100] = 8,333%
A19: B .02 | B19: Férias (incluindo 1/3 constitucional) | C19: 0.08333 | D19: Cálculo: [( 1/12) x 100] = 8,333%
A20: B .03 | B20: Aviso Prévio Trabalhado | C20: 0.01944 | D20: Cálculo: {[(100%/30) x 7 / 12} = 1,944%. (Contrato de 12 meses)
A21: B .04 | B21: Auxílio doença | C21: 0.00222 | D21: Cálculo: {[( 1462463/54796761) / 12} = 0,222%. (5 dias de licença p/ funcionário ao ano)
A22: B .05 | B22: Acidente de Trabalho | C22: 0.00051 | D22: Cálculo: {((100%/30) x 15) / 12) x (717911/58981000)}= 0,051%. (1 licença p/ ano de 15 dias )
A23: B .06 | B23: Faltas legais | C23: 0.00415 | D23: Cálculo: {[(100%/30) x 1,4947] / 12} = 0,415%. (Estimativa de 1,4947 ausências por ano)
A24: B .07 | B24: Férias sobre licença maternidade | C24: 0.00039 | D24: Cálculo: {[(8,333% x 1,416%) x 4/12] x 100} = 0,039%. (Impacto do item férias sobre licença maternidade)
A25: B .08 | B25: Licença paternidade | C25: 0.0002 | D25: Cálculo: {[(100% / 30) x 5] /12 } x 1,416% = 0,020%. (1,416% dos funcionários usuf. 5 dias p/ ano)
A26: Subtotal do Grupo B | C26: =SUM(C18:C25) -> 0.19357
A28: Grupo C - Encargos que não recebem a incidência do grupo B
A29: C .01 | B29: Aviso Prévio Indenizado | C29: 0.00417 | D29: Cálculo: {[0,05 x (1 / 12)] x 100} = 0,417%. (5% de ocorrência anual)
A30: C .02 | B30: Indenização Adicional | C30: 0.00286 | D30: Cálculo: [(1/12) x 3,4275%] = 0,286%. (3,425% dos funcionários ao ano)
A31: C .03 | B31: Multa do FGTS - funcionários ativos | C31: 0.032 | D31: Cálculo: (1 x 0,40 x 0,08 x 100) = 3,200%. ( Multa de 40% p/ 100% dos funcionários)
A32: C .04 | B32: Abono de férias - 1/3 constitucional | C32: 0.02778 | D32: Cálculo: [(1/3) / 12 x 100] = 2,778%
A33: C .05 | B33: Abono de férias - 1/3 constitucional sobre licença maternidade | C33: 0.00013 | D33: Cálculo: {[(1/3)/12] x 0,02 x (4/12) x100]} = 0,019%
A34: Subtotal do Grupo C | C34: =SUM(C29:C33) -> 0.06694
A36: Grupo D - Incidência do Grupo A sobre o Grupo B
A37: D.01 | B37: Incidência dos encargos do grupo"A" sobre os itens do grupo "B" | C37: =ROUND(C15*C26,5) -> 0.07704 | D37: Cálculo: (0,3980 x 0,19357) x 100 = 7,704%.
A38: Subtotal do Grupo D | C38: =C37 -> 0.07704
A40: Grupo E - Incidência do FGTS sobre o Aviso Prévio Indenizado
A41: E.01 | B41: Incidência do FGTS exclusivamente sobre o aviso prévio indenizado | C41: 0.00033 | D41: Cálculo = A.02 x C.01 = (0,08 x 0,00417) x 100 = 0,033%.
A42: E.02 | B42: FGTS sobre afastamento superior 15 dias por acidente trabalho | C42: 4e-05 | D42: Cálculo: A.02 x B.05 = (0,08 x 0,0051) x 100 = 0,026%
A43: E.03 | B43: Incidência de FGTS sobre férias 1/3 constitucional | C43: 0.00222 | D43: Cálculo: A.02 x C.05 = (0,08x0,02778)x100 = 0,222%
A44: Subtotal do Grupo E | C44: =SUM(C41:C43) -> 0.00259
A46: Grupo F - Incidência do Grupo A sobre o Salário-Maternidade
A47: F.01 | B47: Encargos do grupo"A" sobre salário-maternidade | C47: 0.00265 | D47: Cálculo: [(Enc. Grupo A) x (Remuneração) x (4 meses de licençapor ano) x (Percentual de 2% dos empregados entram em licença maternidade)] = [{0,39800 x (4/12) x (2/100)} x 100]= 0,265
A48: Subtotal do Grupo F | C48: =C47 -> 0.00265
...

Sheet Funcionario
A2: ANEXO IX . 2 - AUXILIAR DE SERVIÇOS GERAIS - CUSTO MENSAL | E2: ANEXO IX . 2 - ENCARREGADO - CUSTO MENSAL
A4: I - Salário estimado do profissional | E4: I - Salário estimado do profissional
B5: Convenção Coletiva: (*) | F5: Convenção Coletiva: (*)
B6: Salário base da categoria (***) | D6: 1346.65 | F6: Salário base da categoria (**) | H6: 2151.23
A8: II - Composição da remuneração | E8: II - Composição da remuneração
B9: Salário | D9: =D6 -> 1346.65 | F9: Salário | H9: =H6 -> 2151.23
B10: Insalubridade (40%) | D10: =1302*0.4 -> 520.8 | F10: Insalubridade (40%) | H10: 520.8
A11: Total da remuneração | D11: =SUM(D9:D10) -> 1867.45 | E11: Total da remuneração | H11: =SUM(H9:H10) -> 2672.03
A13: III - Encargos sociais incidentes sobre a remuneração | E13: III - Encargos sociais incidentes sobre a remuneração
A14: =Encargos!A6 -> Grupo A - Encargos sociais básicos | E14: Grupo A - Encargos sociais básicos
A15: =Encargos!A7 -> A .01 | B15: =Encargos!B7 -> INSS | C15: =Encargos!C7 -> 0.2 | D15: =TRUNC(D$11*C15,2) -> 373.49 | E15: A .01 | F15: INSS | G15: 0.2 | H15: =TRUNC(H$11*G15,2) -> 534.4
A16: =Encargos!A8 -> A .02 | B16: =Encargos!B8 -> FGTS | C16: =Encargos!C8 -> 0.08 | D16: =TRUNC(D$11*C16,2) -> 149.39 | E16: A .02 | F16: FGTS | G16: 0.08 | H16: =TRUNC(H$11*G16,2) -> 213.76
A17: =Encargos!A9 -> A .03 | B17: =Encargos!B9 -> SESI / SESC | C17: =Encargos!C9 -> 0.015 | D17: =TRUNC(D$11*C17,2) -> 28.01 | E17: A .03 | F17: SESI / SESC | G17: 0.015 | H17: =TRUNC(H$11*G17,2) -> 40.08
A18: =Encargos!A10 -> A .04 | B18: =Encargos!B10 -> SENAI / SENAC | C18: =Encargos!C10 -> 0.01 | D18: =TRUNC(D$11*C18,2) -> 18.67 | E18: A .04 | F18: SENAI / SENAC | G18: 0.01 | H18: =TRUNC(H$11*G18,2) -> 26.72
A19: =Encargos!A11 -> A .05 | B19: =Encargos!B11 -> INCRA | C19: =Encargos!C11 -> 0.002 | D19: =TRUNC(D$11*C19,2) -> 3.73 | E19: A .05 | F19: INCRA | G19: 0.002 | H19: =TRUNC(H$11*G19,2) -> 5.34
A20: =Encargos!A12 -> A .06 | B20: =Encargos!B12 -> SEBRAE | C20: =Encargos!C12 -> 0.006 | D20: =TRUNC(D$11*C20,2) -> 11.2 | E20: A .06 | F20: SEBRAE | G20: 0.006 | H20: =TRUNC(H$11*G20,2) -> 16.03
A21: =Encargos!A13 -> A .07 | B21: =Encargos!B13 -> Salário Educação | C21: =Encargos!C13 -> 0.025 | D21: =TRUNC(D$11*C21,2) -> 46.68 | E21: A .07 | F21: Salário Educação | G21: 0.025 | H21: =TRUNC(H$11*G21,2) -> 66.8
A22: =Encargos!A14 -> A .08 | B22: =Encargos!B14 -> Riscos Ambientais do Trabalho (RAT x FAP) | C22: =Encargos!C14 -> 0.06 | D22: =TRUNC(D$11*C22,2) -> 112.04 | E22: A .08 | F22: Riscos Ambientais do Trabalho (RAT x FAP) | G22: 0.06 | H22: =TRUNC(H$11*G22,2) -> 160.32
A23: =Encargos!A15 -> Subtotal do Grupo A | C23: =SUM(C15:C22) -> 0.398 | D23: =SUM(D15:D22) -> 743.21 | E23: Subtotal do Grupo A | G23: 0.398 | H23: =SUM(H15:H22) -> 1063.45
A25: =Encargos!A17 -> Grupo B - Encargos que recebem a incidência do grupo A | E25: Grupo B - Encargos que recebem a incidência do grupo A
A26: =Encargos!A18 -> B .01 | B26: =Encargos!B18 -> 13º salário | C26: =Encargos!C18 -> 0.08333 | D26: =TRUNC(D$11*C26,2) -> 155.61 | E26: B .01 | F26: 13º salário | G26: 0.08333 | H26: =TRUNC(H$11*G26,2) -> 222.66
A27: =Encargos!A19 -> B .02 | B27: =Encargos!B19 -> Férias (incluindo 1/3 constitucional) | C27: =Encargos!C19 -> 0.08333 | D27: =TRUNC(D$11*C27,2) -> 155.61 | E27: B .02 | F27: Férias (incluindo 1/3 constitucional) | G27: 0.08333 | H27: =TRUNC(H$11*G27,2) -> 222.66
A28: =Encargos!A20 -> B .03 | B28: =Encargos!B20 -> Aviso Prévio Trabalhado | C28: 0.01944 | D28: =TRUNC(D$11*C28,2) -> 36.3 | E28: B .03 | F28: Aviso Prévio Trabalhado | G28: 0.01944 | H28: =TRUNC(H$11*G28,2) -> 51.94
A29: =Encargos!A21 -> B .04 | B29: =Encargos!B21 -> Auxílio doença | C29: 0.00222 | D29: =TRUNC(D$11*C29,2) -> 4.14 | E29: B .04 | F29: Auxílio doença | G29: 0.00222 | H29: =TRUNC(H$11*G29,2) -> 5.93
A30: =Encargos!A22 -> B .05 | B30: =Encargos!B22 -> Acidente de Trabalho | C30: 0.00051 | D30: =TRUNC(D$11*C30,2) -> 0.95 | E30: B .05 | F30: Acidente de Trabalho | G30: 0.00051 | H30: =TRUNC(H$11*G30,2) -> 1.36
A31: =Encargos!A23 -> B .06 | B31: =Encargos!B23 -> Faltas legais | C31: 0.00415 | D31: =TRUNC(D$11*C31,2) -> 7.74 | E31: B .06 | F31: Faltas legais | G31: 0.00415 | H31: =TRUNC(H$11*G31,2) -> 11.08
A32: =Encargos!A24 -> B .07 | B32: =Encargos!B24 -> Férias sobre licença maternidade | C32: 0.00039 | D32: =TRUNC(D$11*C32,2) -> 0.72 | E32: B .07 | F32: Férias sobre licença maternidade | G32: 0.00039 | H32: =TRUNC(H$11*G32,2) -> 1.04
A33: =Encargos!A25 -> B .08 | B33: =Encargos!B25 -> Licença paternidade | C33: 0.0002 | D33: =TRUNC(D$11*C33,2) -> 0.37 | E33: B .08 | F33: Licença paternidade | G33: 0.0002 | H33: =TRUNC(H$11*G33,2) -> 0.53
A34: =Encargos!A26 -> Subtotal do Grupo B | C34: =SUM(C26:C33) -> 0.19357 | D34: =SUM(D26:D33) -> 361.44 | E34: Subtotal do Grupo B | G34: 0.19357 | H34: =SUM(H26:H33) -> 517.2
A36: =Encargos!A28 -> Grupo C - Encargos que não recebem a incidência do grupo B | E36: Grupo C - Encargos que não recebem a incidência do grupo B
A37: =Encargos!A29 -> C .01 | B37: =Encargos!B29 -> Aviso Prévio Indenizado | C37: =Encargos!C29 -> 0.00417 | D37: =TRUNC(C37*D$11,2) -> 7.78 | E37: C .01 | F37: Aviso Prévio Indenizado | G37: 0.00417 | H37: =TRUNC(H$11*G37,2) -> 11.14
A38: =Encargos!A30 -> C .02 | B38: =Encargos!B30 -> Indenização Adicional | C38: 0.00286 | D38: =TRUNC(C38*D$11,2) -> 5.34 | E38: C .02 | F38: Indenização Adicional | G38: 0.00286 | H38: =TRUNC(H$11*G38,2) -> 7.64
A39: =Encargos!A31 -> C .03 | B39: =Encargos!B31 -> Multa do FGTS - funcionários ativos | C39: =Encargos!C31 -> 0.032 | D39: =TRUNC(C39*D$11,2) -> 59.75 | E39: C .03 | F39: Multa do FGTS - funcionários ativos | G39: 0.032 | H39: =TRUNC(H$11*G39,2) -> 85.5
A40: =Encargos!A32 -> C .04 | B40: Abono de férias - 1/3 constitucional | C40: =Encargos!C32 -> 0.02778 | D40: =TRUNC(C40*D$11,2) -> 51.87 | E40: C .04 | F40: Abono de férias - 1/3 constitucional | G40: 0.02778 | H40: =TRUNC(H$11*G40,2) -> 74.22
A41: =Encargos!A33 -> C .05 | B41: Abono de férias - 1/3 constitucional sobre licença maternidade | C41: 0.00013 | D41: =TRUNC(C41*D$11,2) -> 0.24 | E41: C .05 | F41: Abono de férias - 1/3 constitucional sobre licença maternidade | G41: 0.00013 | H41: =TRUNC(H$11*G41,2) -> 0.34
A42: =Encargos!A34 -> Subtotal do Grupo C | C42: =SUM(C37:C41) -> 0.06694 | D42: =SUM(D37:D41) -> 124.98 | E42: Subtotal do Grupo C | G42: 0.06694 | H42: =SUM(H37:H41) -> 178.84
A44: =Encargos!A36 -> Grupo D - Incidência do Grupo A sobre o Grupo B | E44: Grupo D - Incidência do Grupo A sobre o Grupo B
A45: =Encargos!A37 -> D.01 | B45: =Encargos!B37 -> Incidência dos encargos do grupo"A" sobre os itens do grupo "B" | C45: =C23*C34 -> 0.07704086 | D45: =TRUNC(D11*C45,2) -> 143.86 | E45: D.01 | F45: Incidência dos encargos do grupo"A" sobre os itens do grupo "B" | G45: 0.07704086 | H45: =TRUNC(H$11*G45,2) -> 205.85
A46: =Encargos!A38 -> Subtotal do Grupo D | C46: =C45 -> 0.07704086 | D46: =D45 -> 143.86 | E46: Subtotal do Grupo D | G46: 0.07704086 | H46: =SUM(H45) -> 205.85
A48: =Encargos!A40 -> Grupo E - Incidência do FGTS sobre o Aviso Prévio Indenizado | E48: Grupo E - Incidência do FGTS sobre o Aviso Prévio Indenizado
...

Sheet Equipamentos
A1: PREFEITURA MUNICIPAL Secretaria de Obras e Serviços Urbanos
A4: Setor requisitante: Secretaria Municipal de Obras e Serviços Urbanos
A5: ANEXO IX . 3 - EQUIPAMENTOS - CUSTO MENSAL
A6: Objeto: | B6: COTAÇÃO DE PREÇOS 2022/2023
A8: PLANILHA ORÇAMENTÁRIA
A9: Item | B9: Descrição | C9: Unidade | D9: Quantidade | E9: Alex Tour | F9: JGC Locações | G9: Claudinei dos Santos | H9: Tabela SINAPI (NOV/2022) | I9: Custo Produtivo (R$/H) | J9: Custo Improdutivo (R$/H) | K9: Valor Medio (R$) | L9: Valor Total (R$)
A10: 1 | B10: Veículo para transporte de pessoal e ferramentas (40 km/dia x 23 dias) com motorista | C10: Km | D10: =(40*23) -> 920 | E10: 11.2 | F10: =12500/(40*23) -> 13.586957 | G10: =12000/(40*23) -> 13.043478 | K10: =AVERAGE(E10:G10) -> 12.610145 | L10: =K10*D10 -> 11601.333
A11: 2 | B11: Caminhonete cabine simples para transporte de ferramentas (incluso motorista e gasolina) (88284 - 92144) | C11: H | D11: =(8*23) -> 184 | H11: 36.82 | K11: =AVERAGE(E11:H11) -> 36.82 | L11: =K11*D11 -> 6774.88
A12: 3 | B12: Roçadeira costal / lateral FS 220 2.3 CV ou similar (Tabela SICRO - DNIT) | C12: Un | D12: 7 | I12: =7.5911*120 -> 910.932 | J12: =0.4497*100 -> 44.97 | L12: =(I12+J12)*D12 -> 6691.314
A13: Total (R$) | L13: =SUM(L10:L12) -> 25067.527 | M13: =L13*12 -> 300810.33
A15: SIN - 88284 Motorista de veículo leve com encargos complementares | C15: 4.65 | D15: H
A16: SIN - 92144 Caminhonete cabine simples com motor 1.6 flex, câmbio manual, potência 101/104 CV, 2 portas c/ gasolina | C16: 32.17 | D16: H
C18: =SUM(C15:C17) -> 36.82

Sheet Uniformes
A1: PREFEITURA MUNICIPAL Secretaria de Obras e Serviços Urbanos
A4: Setor requisitante: Secretaria Municipal de Obras e Serviços Urbanos
A5: ANEXO IX . 4 - UNIFORMES - CUSTO ANUAL POR FUNCIONÁRO
A6: Objeto: | B6: COTAÇÃO DE PREÇOS 2022/2023
A8: PLANILHA ORÇAMENTÁRIA
A9: Item | B9: Descrição | C9: Unidade | D9: Qtde. | E9: Valor Unitário (R$) Tecno Silk | F9: Valor Unitário (R$) SINAPI - 00012893 | G9: Valor Unitário (R$) 2 S | H9: Valor Unitário (R$) Uniformas | I9: Valor Unitário (R$) Resiste EPI | J9: Valor Unitário (R$) Fardas Express | K9: Valor Unitário (R$) Comtex | L9: Valor Unitário (R$) Util + Equipamentos | M9: Valor Médio (R$) | N9: Valor Total Médio (R$)
A10: 1 | B10: Camisa de Malha com identificação de empresa | C10: Un. | D10: 4 | E10: 31.05 | H10: 40 | J10: 39.2 | M10: =AVERAGE(E10:L10) -> 36.75 | N10: =M10*D10 -> 147
A11: 2 | B11: Calça operacional | C11: Un. | D11: 3 | H11: 95 | J11: 82 | K11: 63.77 | M11: =AVERAGE(E11:L11) -> 80.256667 | N11: =M11*D11 -> 240.77
A12: 3 | B12: Botina fechada com elástico, solado antiderrapante, cor preta e CA emitida pelo MET solado de borracha | C12: Par | D12: 2 | G12: 58.59 | I12: 52 | L12: 76.2 | M12: =AVERAGE(E12:L12) -> 62.263333 | N12: =M12*D12 -> 124.52667
A13: 4 | B13: Bota de borracha tipo sete légua | C13: Par | D13: 1 | F13: 58.8 | G13: 38.7 | I13: 35 | M13: =AVERAGE(E13:L13) -> 44.166667 | N13: =M13*D13 -> 44.166667
A14: Total (R$) | N14: =SUM(N10:N13) -> 556.46333

Sheet Ferramentas
A1: PREFEITURA MUNICIPAL Secretaria de Obras e Serviços Urbanos
A4: Setor requisitante: Secretaria Municipal de Obras e Serviços Urbanos
A5: ANEXO IX . 5 - FERRAMENTAS - CUSTO ANUAL
A6: Objeto: | B6: COTAÇÃO DE PREÇOS 2022/2023
A8: PLANILHA ORÇAMENTÁRIA
A9: Item | B9: Descrição | C9: Unidade | D9: Qtde. | E9: Cotta Ferragens | F9: Util + Equipamentos | G9: Deposito Santa Maria | H9: Duleo | I9: Cotta Materias de Construção | J9: Safety Supply | K9: Meghi Indústria Mecânica | L9: Amazonas EPI | M9: Souart | N9: Maqtec | O9: Americanas | P9: Submarino | Q9: Supermuffato | R9: Valor Médio (R$) | S9: Valor Total Médio (R$)
A10: 1 | B10: Protetor de roçada retratil | C10: Un. | D10: 14 | F10: - | G10: - | H10: - | I10: - | J10: 1430 | K10: 1440 | L10: 1496 | R10: =AVERAGE(E10:L10) -> 1455.3333 | S10: =R10*D10 -> 20374.667
A11: 2 | B11: Vassoura piaçava | C11: Un. | D11: 648 | E11: 21 | F11: 43.05 | G11: 28.93 | H11: - | I11: 31.26 | J11: - | L11: - | R11: =AVERAGE(E11:L11) -> 31.06 | S11: =R11*D11 -> 20126.88
A12: 3 | B12: Enxada n° 02 larga | C12: Un. | D12: 78 | E12: 80 | F12: - | G12: 79.77 | H12: 59.9 | I12: 74.93 | J12: - | L12: - | R12: =AVERAGE(E12:L12) -> 73.65 | S12: =R12*D12 -> 5744.7
A13: 4 | B13: Pá de bico n° 04 | C13: Un. | D13: 26 | E13: 62 | F13: 37.75 | G13: 61.64 | H13: 52.9 | I13: 49.11 | J13: - | L13: - | R13: =AVERAGE(E13:L13) -> 52.68 | S13: =R13*D13 -> 1369.68
A14: 5 | B14: Pá quadrada n° 04 | C14: Un. | D14: 26 | E14: 61 | F14: 41.8 | G14: 58.49 | H14: 54.9 | I14: 56.41 | J14: - | L14: - | R14: =AVERAGE(E14:L14) -> 54.52 | S14: =R14*D14 -> 1417.52
A15: 6 | B15: Picareta ponta e pá | C15: Un. | D15: 15 | E15: 108 | F15: 99.8 | G15: 121.92 | H15: 119.9 | I15: 150.84 | J15: - | L15: - | R15: =AVERAGE(E15:L15) -> 120.092 | S15: =R15*D15 -> 1801.38
A16: 7 | B16: Chibanca | C16: Un. | D16: 10 | E16: 95 | F16: 99.8 | G16: 130.28 | H16: 79.9 | I16: - | J16: - | L16: - | R16: =AVERAGE(E16:L16) -> 101.245 | S16: =R16*D16 -> 1012.45
A17: 8 | B17: Foice com cabo | C17: Un. | D17: 26 | E17: 70 | F17: 51.2 | G17: 62.52 | H17: 59.9 | I17: 59.47 | J17: - | L17: - | R17: =AVERAGE(E17:L17) -> 60.618 | S17: =R17*D17 -> 1576.068
A18: 9 | B18: Carrinho de mão | C18: Un. | D18: 10 | E18: 190 | F18: 185.7 | G18: 205.12 | H18: 189.9 | I18: 446 | J18: - | L18: - | R18: =AVERAGE(E18:L18) -> 243.344 | S18: =R18*D18 -> 2433.44
A19: 10 | B19: Garrafa térmica de 05 litros | C19: Un. | D19: 18 | E19: 37 | F19: 36.5 | G19: 48.57 | H19: 44.9 | I19: 44.98 | J19: - | L19: - | R19: =AVERAGE(E19:L19) -> 42.39 | S19: =R19*D19 -> 763.02
A20: 11 | B20: Abafador com haste atrás da nuca | C20: Un. | D20: 20 | E20: 22 | F20: - | G20: 28.36 | H20: - | I20: 25 | J20: - | L20: - | R20: =AVERAGE(E20:L20) -> 25.12 | S20: =R20*D20 -> 502.4
A21: 12 | B21: Óculos de segurança | C21: Un. | D21: 36 | E21: 5 | F21: 7.5 | G21: 9.12 | H21: 9.5 | I21: 7.38 | J21: - | L21: - | R21: =AVERAGE(E21:L21) -> 7.7 | S21: =R21*D21 -> 277.2
A22: 13 | B22: Perneira de PVC com velcro | C22: Par | D22: 72 | E22: 54 | F22: - | G22: 51.59 | H22: - | I22: 39 | J22: - | L22: - | R22: =AVERAGE(E22:L22) -> 48.196667 | S22: =R22*D22 -> 3470.16
A23: 14 | B23: Capa de chuva | C23: Un. | D23: 72 | E23: 24 | F23: 45.7 | G23: 36.04 | H23: 26.9 | I23: 23.78 | J23: - | L23: - | R23: =AVERAGE(E23:L23) -> 31.284 | S23: =R23*D23 -> 2252.448
A24: 15 | B24: Luva Vaqueta | C24: Par | D24: 216 | E24: 32 | F24: 31.8 | G24: 35.3 | H24: 27.9 | I24: 32.93 | J24: - | L24: - | R24: =AVERAGE(E24:L24) -> 31.986 | S24: =R24*D24 -> 6908.976
A25: 16 | B25: Mesa quadrada 70x70 de polipropileno | C25: Un. | D25: 7 | F25: 168.5 | M25: 149 | N25: 115 | R25: =AVERAGE(E25:Q25) -> 144.16667 | S25: =R25*D25 -> 1009.1667
A26: 17 | B26: Cadeira sem braço de polipropileno | C26: Un. | D26: 28 | F26: 73.1 | M26: 79.9 | N26: 75 | R26: =AVERAGE(E26:Q26) -> 76 | S26: =R26*D26 -> 2128
A27: 18 | B27: Tenda 3x6m para alimentação | C27: Un. | D27: 3 | O27: 859.9 | P27: 859.9 | Q27: 799.9 | R27: =AVERAGE(E27:Q27) -> 839.9 | S27: =R27*D27 -> 2519.7
A28: Total Materiais Diversos (R$) | S28: =SUM(S10:S27) -> 75687.855

Sheet Custo Total
A1: PREFEITURA MUNICIPAL Secretaria de Obras e Serviços Urbanos
A4: Setor requisitante: Secretaria Municipal de Obras e Serviços Urbanos
A5: ANEXO IX . 6 - CUSTO TOTAL DA CONTRATAÇÃO
A6: I - Mão-de-obra
A7: Nrº | B7: Categoria | C7: Quantidade de postos | D7: Custo unitário | E7: Custo mensal | F7: Custo total
A8: 1 | B8: Auxiliar de serviços gerais | C8: 27 | D8: =Funcionario!D60 -> 3250.7 | E8: =C8*D8 -> 87768.9 | F8: =E8*12 -> 1053226.8
A9: 2 | B9: Encarregado geral de obras | C9: 1 | D9: =Funcionario!H60 -> 4651.36 | E9: =C9*D9 -> 4651.36 | F9: =E9*12 -> 55816.32
A10: Valor Total Mão-de-obra | E10: =SUM(E8) -> 87768.9 | F10: =SUM(F8:F9) -> 1109043.1
A12: II - Demais componentes
A13: Nrº | B13: Item | E13: Custo Mensal | F13: Custo Total
A14: 1 | B14: Uniformes | E14: =(Uniformes!N14*30)/12 -> 1391.1583 | F14: =E14*12 -> 16693.9
A15: 2 | B15: Ferramentas | E15: =Ferramentas!S28/12 -> 6307.3213 | F15: =E15*12 -> 75687.855
A16: 3 | B16: Equipamentos | E16: =Equipamentos!L13 -> 25067.527 | F16: =E16*12 -> 300810.33
A17: 4 | B17: Vale cesta | E17: =F17/12 -> 4465.89 | F17: =I39 -> 53590.68
A18: 5 | B18: Seguro de vida | E18: =(30*15.78) -> 473.4 | F18: =E18*12 -> 5680.8
A19: 6 | B19: Outros benefícios (citar)
E20: =SUM(E14:E19) -> 37705.297 | F20: =SUM(F14:F19) -> 452463.56
A22: Bonificação de Despesas Indiretas - BDI
B23: =Encargos!B57 -> LDI | D23: 0.1 | E23: =F23/12 -> 13012.556 | F23: =(F10+F20)*D23 -> 156150.67
B24: =Encargos!B58 -> Despesas Administrativas / Operacionais | D24: 0.05 | E24: =F24/12 -> 6506.2778 | F24: =(F10+F20)*D24 -> 78075.334
A25: Total – Bonificação de despesas indiretas | E25: =SUM(E23:E24) -> 19518.834 | F25: =SUM(F23:F24) -> 234226
A27: Sub-total | E27: =E10+E20+E25 -> 144993.03 | F27: =SUM(F10,F20,F25) -> 1795732.7
A29: Tributação sobre o faturamento
B30: =Encargos!B63 -> ISSQN | D30: 0.05 | E30: =F30/12 -> 8190.7158 | F30: =TRUNC(D30*F$35,2) -> 98288.59
B31: =Encargos!B64 -> COFINS | D31: 0.03 | E31: =F31/12 -> 4914.4292 | F31: =TRUNC(D31*F$35,2) -> 58973.15
B32: =Encargos!B65 -> PIS | D32: 0.0065 | E32: =F32/12 -> 1064.7925 | F32: =TRUNC(D32*F$35,2) -> 12777.51
A33: Total - Tributos sobre o faturamento | E33: =SUM(E30:E32) -> 14169.938 | F33: =SUM(F30:F32) -> 170039.25
A35: Valor Total Geral | E35: =E27+E33 -> 159162.97 | F35: =(F10+F20+F25)/(1-D30-D31-D32) -> 1965772
A37: MEMÓRIA DE CÁLCULO:
A39: 1) Vale Cesta | I39: =(221.22*2)+ (C50*12)*30 -> 53590.68
A40: Valor do vale cesta conforme CCT referente a gratificação de férias e natal utilizada: R$ 221,22
A41: Valor do vale cesta mensal: R$ 147,63
A42: Quantidade de cestas por funcionário - ano: 12 (mensal) + 1 (gratificação de férias) + 1 (natal)
A43: Valor do vale cesta anual = (valor da cesta de férias e natal x 2 ) + (valor do vale cesta mensal x 12 ) x nº de funcionários
A45: 2) Seguro de vida: Conforme cotação: 15,78
A48: Cotação Cesta Básica
A49: Somar | B49: 100.23
A50: Araújo/Smart | B50: 207.24 | C50: =AVERAGE(B49:B53) -> 147.634
A51: Rubens | B51: 251.7
A52: S. Nova Era | B52: 99
...
