Workbook
Name MAO_DE_OBRA: [2]!Tabela1[#Data]
Name MO: [2]!Tabela1[#Data]
Name Print_Area: 'Mob Equipamento'!$A$1:$N$36
Name Print_Area: 'Mob Pessoal'!$A$1:$M$25
Name Print_Titles: 'Mob Equipamento'!$1:$5
Name Print_Titles: 'Mob Pessoal'!$1:$5
Name Serviços: [3]Serviços!$A$3:$F$1403

Sheet Resumo
A1: DISCRIMINAÇÃO | G1: Data Base: Julho/2022 (Des)
A2: I - SERVIÇOS | F2: VALOR (Des) | H2: Percent. (%)
A3: Serviços Preliminares | F3: R$ | G3: =Orçamento!J16 -> 0 | H3: =G3/G$15 -> #DIV/0!
A4: Ponte sobre o Rio Piracicaba
A5: Infraestrutura | F5: R$ | G5: =Orçamento!J46 -> 0 | H5: =G5/G$15 -> #DIV/0!
A6: Mesoestrutura | F6: R$ | G6: =Orçamento!J58 -> 0 | H6: =G6/G$15 -> #DIV/0!
A7: Superestrutura | F7: R$ | G7: =Orçamento!J105 -> 0 | H7: =G7/G$15 -> #DIV/0!
A8: Passagem Inferior | F8: R$ | G8: =Orçamento!J115 -> 0 | H8: =G8/G$15 -> #DIV/0!
A9: Movimento de Terras | F9: R$ | G9: =Orçamento!J123 -> 0 | H9: =G9/G$15 -> #DIV/0!
A10: Drenagem | F10: R$ | G10: =Orçamento!J140 -> 0 | H10: =G10/G$15 -> #DIV/0!
A11: Iluminação | F11: R$ | G11: =Orçamento!J174 -> 0 | H11: =G11/G$15 -> #DIV/0!
A12: Pavimentação | F12: R$ | G12: =Orçamento!J185 -> 0 | H12: =G12/G$15 -> #DIV/0!
A13: Sinalização | F13: R$ | G13: =Orçamento!J196 -> 0 | H13: =G13/G$15 -> #DIV/0!
A14: Administração Local | F14: R$ | G14: =Orçamento!J248 -> 0 | H14: =G14/G$15 -> #DIV/0!
A15: Total geral | F15: R$ | G15: =SUM(G3:G14) -> 0 | H15: =G15/G$15 -> #DIV/0!
A16: Valor por m² de ponte | D16: Área (m²): | E16: =B23*E23 -> 1755.6 | F16: R$ | G16: =G15/E16 -> 0
A17: PREFEITURA MUNICIPAL DE NOVA ERA | F17: RESUMO DO ORÇAMENTO
A19: Obra: | B19: Ponte sob o rio Piracicaba | F19: PROJETO DE ENGENHARIA
A20: Rodovia: | B20: Ligação entre Rua Quincas Honorato e Rua Rio Piracicaba
A21: Trecho: | B21: Ponto localizado
A22: Coord: | B22: 19°45'54.13"S / 43° 1'45.24"O
A23: Extensão: | B23: 125.4 | D23: Largura: | E23: 14
A24: BDI (Serv): | B24: =BDI!D19/100 -> 0.2674 | D24: BDI(Mat-Equip) | E24: =BDI!D35/100 -> 0.2092

Sheet Orçamento
A1: ="OBRA: "&UPPER(Resumo!$B$19) -> OBRA: PONTE SOB O RIO PIRACICABA | D1: BONIFICAÇÃO E | G1: PREFEITURA MUNICIPAL DE ERVAL SECO
A2: ="RODOVIA: "&UPPER(Resumo!$B$20) -> RODOVIA: LIGAÇÃO ENTRE RUA QUINCAS HONORATO E RUA RIO PIRACICABA | D2: DESPESAS INDIRETAS | G2: QUADRO DE QUANTIDADES E CUSTOS
A3: ="TRECHO: "&UPPER(Resumo!$B$21) -> TRECHO: PONTO LOCALIZADO | D3: BDI normal: | F3: =BDI!D19/100 -> 0.2674 | G3: TABELA REFERÊNCIA: SICRO / DNIT
A4: ="COORDENADAS: "&UPPER(Resumo!$B$22) -> COORDENADAS: 19°45'54.13"S / 43° 1'45.24"O | D4: BDI Mat./Equip: | F4: =BDI!D35/100 -> 0.2092 | G4: DATA BASE: JULHO/2022 (DESON)
A5: ITEM | B5: CÓDIGO SICRO/ SINAPI | C5: ITENS DE SERVIÇO | D5: ESPECIF | E5: DMT | F5: UNID | G5: QUANT. | H5: PREÇO UNIT SEM BDI | I5: PREÇO UNIT COM BDI | J5: VALOR (R$)
A7: 1 | C7: SERVIÇOS PRELIMINARES | D7: DNIT-ES 116/09
A8: 1.1 | B8: S/C | C8: Instalação de canteiro de obras e alojamentos | F8: unid | G8: 1 | I8: =TRUNC(H8*(1+$F$3),2) -> 0 | J8: =TRUNC(G8*I8,2) -> 0
A9: 1.2 | B9: S/C | C9: Mobilização de pessoal e baixadas | F9: unid | G9: 1 | I9: =TRUNC(H9*(1+$F$3),2) -> 0 | J9: =TRUNC(G9*I9,2) -> 0
A10: 1.3 | B10: S/C | C10: Desmobilização de pessoal e baixadas | F10: unid | G10: 1 | I10: =TRUNC(H10*(1+$F$3),2) -> 0 | J10: =TRUNC(G10*I10,2) -> 0
A11: 1.4 | B11: S/C | C11: Mobilização de equipamento | F11: unid | G11: 1 | I11: =TRUNC(H11*(1+$F$3),2) -> 0 | J11: =TRUNC(G11*I11,2) -> 0
A12: 1.5 | B12: S/C | C12: Desmobilização de equipamento | F12: unid | G12: 1 | I12: =TRUNC(H12*(1+$F$3),2) -> 0 | J12: =TRUNC(G12*I12,2) -> 0
A13: 1.6 | B13: 74209/001 | C13: Placa de obra em chapa de aço galvanizado | F13: m² | G13: 16 | I13: =TRUNC(H13*(1+$F$3),2) -> 0 | J13: =TRUNC(G13*I13,2) -> 0
A14: 1.7 | B14: 2108169 | C14: Escoramento com pontaletes D = 15 cm - utilização de 1 vez - confecção e instalação | F14: m³ | G14: 1714.6 | I14: =TRUNC(H14*(1+$F$3),2) -> 0 | J14: =TRUNC(G14*I14,2) -> 0
A15: 1.8 | B15: S/C | C15: Demolição manual de construções provisórias de madeira - com reaproveitamento | F15: m² | G15: ='Canteiro Qtd'!E55 -> 17.25 | I15: =TRUNC(H15*(1+$F$3),2) -> 0 | J15: =TRUNC(G15*I15,2) -> 0
C16: Subtotal de serviços preliminares | J16: =SUM(J8:J15) -> 0
A18: 2 | C18: PONTE SOBRE O RIO PIRACICABA
A19: 2.1 | C19: INFRAESTRUTURA
A20: 2.1.1 | C20: Estacas
A21: 2.1.1.1 | B21: 5502135 | C21: Escavação, carga e transporte de material de 1ª categoria - DMT de 50 a 200 m - caminho de serviço em revestimento primário - com escavadeira e caminhão basculante de 14 m³ | F21: m³ | G21: 0 | H21: =Composições!$I$27 -> 5.58 | I21: =TRUNC(H21*(1+$F$3),2) -> 7.07 | J21: =TRUNC(G21*I21,2) -> 0
A22: 2.1.1.2 | B22: 2003864 | C22: Esgotamento de água com bomba submersa | F22: h | G22: 0 | H22: =Composições!$I$56 -> 22.76 | I22: =TRUNC(H22*(1+$F$3),2) -> 28.84 | J22: =TRUNC(G22*I22,2) -> 0
A23: 2.1.1.1 | B23: 2306065 | C23: Estaca raiz perfurada no solo com D = 31 cm – confecção | D23: DNIT-ES 121/09 | F23: m | G23: 636 | I23: =TRUNC(H23*(1+$F$3),2) -> 0 | J23: =TRUNC(G23*I23,2) -> 0
A24: 2.1.1.2 | B24: 2306070 | C24: Estaca raiz perfurada na rocha com D = 31 cm – confecção | D24: DNIT-ES 121/09 | F24: m | G24: 216 | I24: =TRUNC(H24*(1+$F$3),2) -> 0 | J24: =TRUNC(G24*I24,2) -> 0
A25: 2.1.1.3 | B25: M2321 | C25: Revestimento para estaca raiz SCH 80 - D Externo = 323,8 mm - 132,04 kg/m | F25: m | G25: 96 | I25: =TRUNC(H25*(1+$F$4),2) -> 0 | J25: =TRUNC(G25*I25,2) -> 0
A26: 2.1.1.4 | B26: 407819 | C26: Armação em aço CA-50 - fornecimento, preparo e colocação | D26: DNIT-ES 118/09 | F26: kg | G26: 23614 | I26: =TRUNC(H26*(1+$F$3),2) -> 0 | J26: =TRUNC(G26*I26,2) -> 0
C27: Subtotal de Estacas | J27: =SUM(J21:J26) -> 0
A29: 2.1.2 | C29: Blocos + Vigas de Equilíbrio
A30: 2.1.2.1 | B30: 5501706 | C30: Escavação mecânica com retroescavadeira em material de 1ª categoria | F30: m³ | G30: 654.68 | I30: =TRUNC(H30*(1+$F$3),2) -> 0 | J30: =TRUNC(G30*I30,2) -> 0
A31: 2.1.2.2 | B31: 1106057 | C31: Concreto magro - confecção em betoneira e lançamento manual - areia e brita comerciais | D31: DNIT-ES 117/09 | F31: m³ | G31: 10.61 | I31: =TRUNC(H31*(1+$F$3),2) -> 0 | J31: =TRUNC(G31*I31,2) -> 0
A32: 2.1.2.3 | B32: 1107900 | C32: Concreto fck = 30 MPa - confecção em betoneira e lançamento manual - areia e brita comerciais | D32: DNIT-ES 117/09 | F32: m³ | G32: 175 | I32: =TRUNC(H32*(1+$F$3),2) -> 0 | J32: =TRUNC(G32*I32,2) -> 0
A33: 2.1.2.4 | B33: 1106050 | C33: Lançamento livre de concreto usinado por meio de caminhão betoneira - confecção em central dosadora de 30 m³/h | F33: m³ | G33: =G32 -> 175 | I33: =TRUNC(H33*(1+$F$3),2) -> 0 | J33: =TRUNC(G33*I33,2) -> 0
A34: 2.1.2.5 | B34: 1107860 | C34: Lançamento mecânico de concreto com bomba lança sobre chassi com capacidade de 50 m³/h - confecção em central dosadora de 40 m³/h | F34: m³ | G34: =G32 -> 175 | I34: =TRUNC(H34*(1+$F$3),2) -> 0 | J34: =TRUNC(G34*I34,2) -> 0
A35: 2.1.2.6 | B35: 1100657 | C35: Adensamento de concreto por vibrador de imersão | F35: m³ | G35: =G32+G31 -> 185.61 | I35: =TRUNC(H35*(1+$F$3),2) -> 0 | J35: =TRUNC(G35*I35,2) -> 0
A36: 2.1.2.7 | B36: 407819 | C36: Armação em aço CA-50 - fornecimento, preparo e colocação | D36: DNIT-ES 118/09 | F36: kg | G36: 11251 | I36: =TRUNC(H36*(1+$F$3),2) -> 0 | J36: =TRUNC(G36*I36,2) -> 0
A37: 2.1.2.8 | B37: 3108017 | C37: Formas de compensado resinado 14 mm - utilização de 3 vezes - confecção, instalação e retirada | D37: DNIT-ES 120/09 | F37: m² | G37: 327.76 | I37: =TRUNC(H37*(1+$F$3),2) -> 0 | J37: =TRUNC(G37*I37,2) -> 0
A38: 2.1.2.9 | B38: 2003850 | C38: Lastro de brita comercial compactado com soquete vibratório - espalhamento manual | F38: m³ | G38: 10.03 | I38: =TRUNC(H38*(1+$F$3),2) -> 0 | J38: =TRUNC(G38*I38,2) -> 0
A39: 2.1.2.10 | B39: 2306247 | C39: Arrazamento de estacasde concretocom seção de até 900 cm³ | F39: m³ | G39: 15.07 | I39: =TRUNC(H39*(1+$F$3),2) -> 0 | J39: =TRUNC(G39*I39,2) -> 0
A40: 2.1.2.11 | B40: 4915671 | C40: Reaterro e compactação com soquete vibratório | F40: m² | G40: 348.34 | I40: =TRUNC(H40*(1+$F$3),2) -> 0 | J40: =TRUNC(G40*I40,2) -> 0
A41: 2.1.2.12 | B41: 2108167 | C41: Escoramento com pontaletes D = 10 cm - utilização de 3 vez - confeccção e instalação e retirada | F41: m³ | G41: 149.36 | I41: =TRUNC(H41*(1+$F$3),2) -> 0 | J41: =TRUNC(G41*I41,2) -> 0
A42: 2.1.2.13 | B42: 2106235 | C42: Escoramento metálico com quadro tubular contraventado - capacidade de carga até 3,8 t/m² - quadro de 1,0 x 1,0 x 1,2 m - utilização de 50 vezes - fornecimento, instalação e retirada - ( plataforma de trabalho ) | F42: m³ | G42: 44.26 | I42: =TRUNC(H42*(1+$F$3),2) -> 0 | J42: =TRUNC(G42*I42,2) -> 0
A43: 2.1.2.14 | B43: 1106165 | C43: Concreto ciclópico fck = 20 MPa - confecção em betoneira e lançamento manual - areia, brita e pedra de mão comerciais | F43: m² | G43: 0 | H43: =Composições!$I$2309 -> 312.03 | I43: =TRUNC(H43*(1+$F$3),2) -> 395.46 | J43: =TRUNC(G43*I43,2) -> 0
...

Sheet Cronograma
A1: PREFEITURA MUNICIPAL DE NOVA ERA | I1: ESTADO DE MINAS GERAIS
A4: ="Obra: "&Resumo!B19 -> Obra: Ponte sob o rio Piracicaba | I4: CRONOGRAMA FÍSICO - FINANCEIRO
A5: ="Rodovia: "&Resumo!B20 -> Rodovia: Ligação entre Rua Quincas Honorato e Rua Rio Piracicaba
A6: ="Trecho: "&Resumo!B21 -> Trecho: Ponto localizado
A7: ="Coordenadas: "&UPPER(Resumo!$B$22) -> Coordenadas: 19°45'54.13"S / 43° 1'45.24"O | H7: D. Base: Jul/2022 (Des)
A9: ITEM | B9: SERVIÇOS | E9: CRONOGRAMA FÍSICO - FINANCEIRO
E10: Meses
B11: DISCRIMINAÇÃO | D11: TOTAL | E11: 1 | G11: =E11+1 -> 2 | I11: =G11+1 -> 3 | K11: =I11+1 -> 4 | M11: =K11+1 -> 5
D12: (R$) | E12: % | F12: VALOR | G12: % | H12: VALOR | I12: % | J12: VALOR | K12: % | L12: VALOR | M12: % | N12: VALOR
A13: 1 | B13: Serviços preliminares | D13: =Orçamento!J16 -> 0 | E13: 0.75 | F13: =E13*$D13 -> 0 | H13: =G13*$D13 -> 0 | J13: =I13*$D13 -> 0 | L13: =K13*$D13 -> 0 | N13: =M13*$D13 -> 0
A14: 2 | B14: Ponte sobre o Rio Guarita
A15: 2.1 | B15: Infraestrutura | D15: =Resumo!G5 -> 0 | G15: =1/3 -> 0.33333333 | H15: =G15*$D15 -> 0 | I15: =1/3 -> 0.33333333 | J15: =I15*$D15 -> 0 | K15: =1/3 -> 0.33333333 | L15: =K15*$D15 -> 0 | N15: =M15*$D15 -> 0
A16: 2.2 | B16: Mesoestrutura | D16: =Resumo!G6 -> 0 | I16: =1/3 -> 0.33333333 | J16: =I16*$D16 -> 0 | K16: =1/3 -> 0.33333333 | L16: =K16*$D16 -> 0 | M16: =1/3 -> 0.33333333 | N16: =M16*$D16 -> 0
A17: 2.3 | B17: Superestrutura | D17: =Resumo!G7 -> 0 | K17: 0.15 | L17: =K17*$D17 -> 0 | M17: 0.15 | N17: =M17*$D17 -> 0
A18: 2.4 | B18: Passagem Inferior | D18: =Resumo!G8 -> 0 | I18: 0.2 | J18: =I18*$D18 -> 0 | K18: 0.2 | L18: =K18*$D18 -> 0 | M18: 0.2 | N18: =M18*$D18 -> 0
A19: 2.5 | B19: Movimento de terras | D19: =Resumo!G9 -> 0 | J19: =I19*$D19 -> 0 | L19: =K19*$D19 -> 0 | N19: =M19*$D19 -> 0
A20: 2.6 | B20: Drenagem | D20: =Resumo!G10 -> 0
A21: 2.7 | B21: Iluminação | D21: =Resumo!G11 -> 0
A22: 2.8 | B22: Pavimentação | D22: =Resumo!G12 -> 0
A23: 2.9 | B23: Sinalização | D23: =Resumo!G13 -> 0 | J23: =I23*$D23 -> 0 | L23: =K23*$D23 -> 0 | N23: =M23*$D23 -> 0
A24: 3 | B24: Administração local | D24: =Resumo!G14 -> 0 | G24: =1/9 -> 0.11111111 | H24: =G24*$D24 -> 0 | I24: =G24 -> 0.11111111 | J24: =I24*$D24 -> 0 | K24: =I24 -> 0.11111111 | L24: =K24*$D24 -> 0 | M24: =K24 -> 0.11111111 | N24: =M24*$D24 -> 0
A25: Faturamento simples (R$) | D25: =SUM(D13:D24) -> 0 | E25: =ROUND(F25/$D$26,4) -> #DIV/0! | F25: =SUM(F13:F24) -> 0 | G25: =ROUND(H25/$D$26,4) -> #DIV/0! | H25: =SUM(H13:H24) -> 0 | I25: =ROUND(J25/$D$26,4) -> #DIV/0! | J25: =SUM(J13:J24) -> 0 | K25: =ROUND(L25/$D$26,4) -> #DIV/0! | L25: =SUM(L13:L24) -> 0 | M25: =ROUND(N25/$D$26,4) -> #DIV/0! | N25: =SUM(N13:N24) -> 0
A26: Faturamento acumulado (R$) | D26: =D25 -> 0 | E26: =ROUND(F26/$D$26,4) -> #DIV/0! | F26: =F25 -> 0 | G26: =ROUND(H26/$D$26,4) -> #DIV/0! | H26: =SUM(F26+H25) -> 0 | I26: =ROUND(J26/$D$26,4) -> #DIV/0! | J26: =SUM(H26+J25) -> 0 | K26: =ROUND(L26/$D$26,4) -> #DIV/0! | L26: =SUM(J26+L25) -> 0 | M26: =ROUND(N26/$D$26,4) -> #DIV/0! | N26: =SUM(L26+N25) -> 0
A28: ITEM | B28: SERVIÇOS | E28: CRONOGRAMA FÍSICO - FINANCEIRO
E29: Meses
B30: DISCRIMINAÇÃO | D30: TOTAL | E30: 6 | G30: =E30+1 -> 7 | I30: =G30+1 -> 8 | K30: =I30+1 -> 9 | M30: =K30+1 -> 10
D31: (R$) | E31: % | F31: VALOR | G31: % | H31: VALOR | I31: % | J31: VALOR | K31: % | L31: VALOR | M31: % | N31: VALOR
A32: 1 | B32: Serviços preliminares | D32: =D13 -> 0 | H32: =G32*$D32 -> 0 | J32: =I32*$D32 -> 0 | M32: 0.25 | N32: =M32*$D32 -> 0
A33: 2 | B33: Ponte sobre o Rio Guarita
A34: 2.1 | B34: Infraestrutura | D34: =D15 -> 0 | J34: =I34*$D34 -> 0 | L34: =K34*$D34 -> 0 | N34: =M34*$D34 -> 0
A35: 2.2 | B35: Mesoestrutura | D35: =D16 -> 0 | F35: =E35*$D35 -> 0 | H35: =G35*$D35 -> 0 | J35: =I35*$D35 -> 0 | L35: =K35*$D35 -> 0 | N35: =M35*$D35 -> 0
A36: 2.3 | B36: Superestrutura | D36: =D17 -> 0 | E36: 0.15 | F36: =E36*$D36 -> 0 | G36: 0.15 | H36: =G36*$D36 -> 0 | I36: 0.15 | J36: =I36*$D36 -> 0 | K36: 0.15 | L36: =K36*$D36 -> 0 | M36: 0.1 | N36: =M36*$D36 -> 0
A37: 2.4 | B37: Passagem Inferior | D37: =D18 -> 0 | E37: 0.2 | F37: =E37*$D37 -> 0 | G37: 0.2 | H37: =G37*$D37 -> 0
A38: 2.5 | B38: Movimento de terras | D38: =D19 -> 0 | J38: =I38*$D38 -> 0 | M38: 1 | N38: =M38*$D38 -> 0
A39: 2.6 | B39: Drenagem | D39: =D20 -> 0 | G39: 0.1 | H39: =G39*$D39 -> 0 | I39: 0.3 | J39: =I39*$D39 -> 0 | K39: 0.3 | L39: =K39*$D39 -> 0 | M39: 0.3 | N39: =M39*$D39 -> 0
A40: 2.7 | B40: Iluminação | D40: =D21 -> 0 | G40: 0.1 | H40: =G40*$D40 -> 0 | I40: 0.3 | J40: =I40*$D40 -> 0 | K40: 0.3 | L40: =K40*$D40 -> 0 | M40: 0.3 | N40: =M40*$D40 -> 0
A41: 2.8 | B41: Pavimentação | D41: =D22 -> 0 | E41: 0.2 | F41: =E41*$D41 -> 0 | G41: 0.2 | H41: =G41*$D41 -> 0 | I41: 0.2 | J41: =I41*$D41 -> 0 | K41: 0.2 | L41: =K41*$D41 -> 0 | M41: 0.2 | N41: =M41*$D41 -> 0
A42: 2.9 | B42: Sinalização | D42: =D23 -> 0 | J42: =I42*$D42 -> 0 | K42: 0.5 | L42: =K42*$D42 -> 0 | M42: 0.5 | N42: =M42*$D42 -> 0
A43: 3 | B43: Administração local | D43: =D24 -> 0 | E43: =M24 -> 0.11111111 | F43: =E43*$D43 -> 0 | G43: =E43 -> 0.11111111 | H43: =G43*$D43 -> 0 | I43: =G43 -> 0.11111111 | J43: =I43*$D43 -> 0 | K43: =I43 -> 0.11111111 | L43: =K43*$D43 -> 0 | M43: =K43 -> 0.11111111 | N43: =M43*$D43 -> 0
A44: Faturamento simples (R$) | D44: =SUM(D32:D43) -> 0 | E44: =ROUND(F44/$D$26,4) -> #DIV/0! | F44: =SUM(F32:F43) -> 0 | G44: =ROUND(H44/$D$26,4) -> #DIV/0! | H44: =SUM(H32:H43) -> 0 | I44: =ROUND(J44/$D$26,4) -> #DIV/0! | J44: =SUM(J32:J43) -> 0 | K44: =ROUND(L44/$D$26,4) -> #DIV/0! | L44: =SUM(L32:L43) -> 0 | M44: =ROUND(N44/$D$26,4) -> #DIV/0! | N44: =SUM(N32:N43) -> 0
...

Sheet Curva ABC
A1: ="OBRA: "&UPPER(Resumo!$B$19) -> OBRA: PONTE SOB O RIO PIRACICABA | C1: BONIFICAÇÃO E | F1: =Orçamento!G1 -> PREFEITURA MUNICIPAL DE ERVAL SECO
A2: ="RODOVIA: "&UPPER(Resumo!$B$20) -> RODOVIA: LIGAÇÃO ENTRE RUA QUINCAS HONORATO E RUA RIO PIRACICABA | C2: DESPESAS INDIRETAS | F2: =Orçamento!G2 -> QUADRO DE QUANTIDADES E CUSTOS
A3: ="TRECHO: "&UPPER(Resumo!$B$21) -> TRECHO: PONTO LOCALIZADO | C3: BDI normal: | E3: =Orçamento!F3 -> 0.2674 | F3: =Orçamento!G3 -> TABELA REFERÊNCIA: SICRO / DNIT
A4: ="COORDENADAS: "&UPPER(Resumo!$B$22) -> COORDENADAS: 19°45'54.13"S / 43° 1'45.24"O | C4: BDI Mat./Equip: | E4: =Orçamento!F4 -> 0.2092 | F4: =Orçamento!G4 -> DATA BASE: JULHO/2022 (DESON)
A5: CÓDIGO SICRO | B5: ITENS DE SERVIÇO | C5: ESPECIF | D5: DMT | E5: UNID | F5: QUANT. | G5: PREÇO UNIT COM BDI | H5: VALOR (R$) | I5: % | J5: % Acum.
A7: 407819 | B7: Armação em aço CA-50 - fornecimento, preparo e colocação | C7: =VLOOKUP(B7,Orçamento!$C$7:$I$245,2,0) -> DNIT-ES 118/09 | E7: =VLOOKUP(B7,Orçamento!$C$7:$I$245,4,0) -> kg | F7: =SUMIFS(Orçamento!$G$7:$G$245,Orçamento!$C$7:$C$245,B7) -> 242620.9 | G7: =VLOOKUP(B7,Orçamento!$C$7:$I$245,7,0) -> 0 | H7: =SUMIFS(Orçamento!$J$7:$J$245,Orçamento!$C$7:$C$245,B7) -> 0 | I7: =H7/$H$115 -> #DIV/0! | J7: =I7+J6 -> #DIV/0!
A8: 1107900 | B8: Concreto fck = 30 MPa - confecção em betoneira e lançamento manual - areia e brita comerciais | C8: =VLOOKUP(B8,Orçamento!$C$7:$I$245,2,0) -> DNIT-ES 117/09 | E8: =VLOOKUP(B8,Orçamento!$C$7:$I$245,4,0) -> m³ | F8: =SUMIFS(Orçamento!$G$7:$G$245,Orçamento!$C$7:$C$245,B8) -> 1405.8764 | G8: =VLOOKUP(B8,Orçamento!$C$7:$I$245,7,0) -> 0 | H8: =SUMIFS(Orçamento!$J$7:$J$245,Orçamento!$C$7:$C$245,B8) -> 0 | I8: =H8/$H$115 -> #DIV/0! | J8: =I8+J7 -> #DIV/0!
A9: 3108017 | B9: Formas de compensado resinado 14 mm - utilização de 3 vezes - confecção, instalação e retirada | C9: =VLOOKUP(B9,Orçamento!$C$7:$I$245,2,0) -> DNIT-ES 120/09 | E9: =VLOOKUP(B9,Orçamento!$C$7:$I$245,4,0) -> m² | F9: =SUMIFS(Orçamento!$G$7:$G$245,Orçamento!$C$7:$C$245,B9) -> 6072.435 | G9: =VLOOKUP(B9,Orçamento!$C$7:$I$245,7,0) -> 0 | H9: =SUMIFS(Orçamento!$J$7:$J$245,Orçamento!$C$7:$C$245,B9) -> 0 | I9: =H9/$H$115 -> #DIV/0! | J9: =I9+J8 -> #DIV/0!
A10: 92407 | B10: Pavimentação de via em piso de concreto pré-moldado intertravado, tipo Pavi-S, 17x9,5cm, E = 10 cm, Fck ≥ 35 Mpa, assentado sobre colchão de assentamento em cimento com pó de pedra, na proporção 1:8 e espessura de 6 cm, incluindo fornecimento e transporte de todos os materiais | E10: =Orçamento!F184 -> m² | F10: =Orçamento!H184 -> 0 | G10: =Orçamento!I184 -> 0 | H10: =Orçamento!J184 -> 0 | I10: =H10/$H$115 -> #DIV/0! | J10: =I10+J9 -> #DIV/0!
A11: 4507755 | B11: Ancoragem ativa com 12 cordoalhas aderentes D = 12,7 mm - fornecimento e instalação | C11: =VLOOKUP(B11,Orçamento!$C$7:$I$245,2,0) -> 0 | E11: =VLOOKUP(B11,Orçamento!$C$7:$I$245,4,0) -> un | F11: =SUMIFS(Orçamento!$G$7:$G$245,Orçamento!$C$7:$C$245,B11) -> 300 | G11: =VLOOKUP(B11,Orçamento!$C$7:$I$245,7,0) -> 0 | H11: =SUMIFS(Orçamento!$J$7:$J$245,Orçamento!$C$7:$C$245,B11) -> 0 | I11: =H11/$H$115 -> #DIV/0! | J11: =I11+J10 -> #DIV/0!
A12: 4507835 | B12: Bainha metálica diâmetro 65 mm para 12 cordoalhas D = 12,7 mm, semirrígida, redonda, com montagem e injeção de nata de cimento | C12: =VLOOKUP(B12,Orçamento!$C$7:$I$245,2,0) -> 0 | E12: =VLOOKUP(B12,Orçamento!$C$7:$I$245,4,0) -> m | F12: =SUMIFS(Orçamento!$G$7:$G$245,Orçamento!$C$7:$C$245,B12) -> 3978 | G12: =VLOOKUP(B12,Orçamento!$C$7:$I$245,7,0) -> 0 | H12: =SUMIFS(Orçamento!$J$7:$J$245,Orçamento!$C$7:$C$245,B12) -> 0 | I12: =H12/$H$115 -> #DIV/0! | J12: =I12+J11 -> #DIV/0!
A13: 2306070 | B13: Estaca raiz perfurada na rocha com D = 31 cm – confecção | C13: =VLOOKUP(B13,Orçamento!$C$7:$I$245,2,0) -> DNIT-ES 121/09 | E13: =VLOOKUP(B13,Orçamento!$C$7:$I$245,4,0) -> m | F13: =SUMIFS(Orçamento!$G$7:$G$245,Orçamento!$C$7:$C$245,B13) -> 216 | G13: =VLOOKUP(B13,Orçamento!$C$7:$I$245,7,0) -> 0 | H13: =SUMIFS(Orçamento!$J$7:$J$245,Orçamento!$C$7:$C$245,B13) -> 0 | I13: =H13/$H$115 -> #DIV/0! | J13: =I13+J12 -> #DIV/0!
A14: 4507956 | B14: Cordoalha CP 190 RB D = 12,7 mm - fornecimento, preparo e colocação | C14: =VLOOKUP(B14,Orçamento!$C$7:$I$245,2,0) -> DNIT-ES 119/09 | E14: =VLOOKUP(B14,Orçamento!$C$7:$I$245,4,0) -> kg | F14: =SUMIFS(Orçamento!$G$7:$G$245,Orçamento!$C$7:$C$245,B14) -> 18498 | G14: =VLOOKUP(B14,Orçamento!$C$7:$I$245,7,0) -> 0 | H14: =SUMIFS(Orçamento!$J$7:$J$245,Orçamento!$C$7:$C$245,B14) -> 0 | I14: =H14/$H$115 -> #DIV/0! | J14: =I14+J13 -> #DIV/0!
A15: M2321 | B15: Revestimento para estaca raiz SCH 80 - D Externo = 323,8 mm - 132,04 kg/m | C15: =VLOOKUP(B15,Orçamento!$C$7:$I$245,2,0) -> 0 | E15: =VLOOKUP(B15,Orçamento!$C$7:$I$245,4,0) -> m | F15: =SUMIFS(Orçamento!$G$7:$G$245,Orçamento!$C$7:$C$245,B15) -> 96 | G15: =VLOOKUP(B15,Orçamento!$C$7:$I$245,7,0) -> 0 | H15: =SUMIFS(Orçamento!$J$7:$J$245,Orçamento!$C$7:$C$245,B15) -> 0 | I15: =H15/$H$115 -> #DIV/0! | J15: =I15+J14 -> #DIV/0!
A16: 96400 | B16: Execução e compactação de base e ou sub base com macadame seco - exclusive escavação, carga e transporte | C16: =VLOOKUP(B16,Orçamento!$C$7:$I$245,2,0) -> 0 | E16: =VLOOKUP(B16,Orçamento!$C$7:$I$245,4,0) -> m³ | F16: =SUMIFS(Orçamento!$G$7:$G$245,Orçamento!$C$7:$C$245,B16) -> 1482.334 | G16: =VLOOKUP(B16,Orçamento!$C$7:$I$245,7,0) -> 0 | H16: =SUMIFS(Orçamento!$J$7:$J$245,Orçamento!$C$7:$C$245,B16) -> 0 | I16: =H16/$H$115 -> #DIV/0! | J16: =I16+J15 -> #DIV/0!
A17: 99837 | B17: Guarda-corpo de aço galvanizado de 1,10m, montantes tubulares de 1.1/4"" espaçados de 1,20m, travessa superior de 1.1/2"", gradil formado por tubos horizontais de 1"" e verticais de 3/4"", fixado com chumbador mecânico | C17: =VLOOKUP(B17,Orçamento!$C$7:$I$245,2,0) -> 0 | E17: =VLOOKUP(B17,Orçamento!$C$7:$I$245,4,0) -> m | F17: =SUMIFS(Orçamento!$G$7:$G$245,Orçamento!$C$7:$C$245,B17) -> 344 | G17: =VLOOKUP(B17,Orçamento!$C$7:$I$245,7,0) -> 0 | H17: =SUMIFS(Orçamento!$J$7:$J$245,Orçamento!$C$7:$C$245,B17) -> 0 | I17: =H17/$H$115 -> #DIV/0! | J17: =I17+J16 -> #DIV/0!
A18: S/C | B18: Fornecimento e instalação de poste ornamental republiano, de aço galvanizado 4,8 metros metros de altura flangeado, com 4 luminarias do tipo RGB LED (EWS TECNOLOGIA) 30 W | C18: =VLOOKUP(B18,Orçamento!$C$7:$I$245,2,0) -> 0 | E18: =VLOOKUP(B18,Orçamento!$C$7:$I$245,4,0) -> und | F18: =SUMIFS(Orçamento!$G$7:$G$245,Orçamento!$C$7:$C$245,B18) -> 26 | G18: =VLOOKUP(B18,Orçamento!$C$7:$I$245,7,0) -> 0 | H18: =SUMIFS(Orçamento!$J$7:$J$245,Orçamento!$C$7:$C$245,B18) -> 0 | I18: =H18/$H$115 -> #DIV/0! | J18: =I18+J17 -> #DIV/0!
A19: P9819 | B19: Engenheiro supervisor | C19: =VLOOKUP(B19,Orçamento!$C$7:$I$245,2,0) -> 0 | E19: =VLOOKUP(B19,Orçamento!$C$7:$I$245,4,0) -> mês | F19: =SUMIFS(Orçamento!$G$7:$G$245,Orçamento!$C$7:$C$245,B19) -> 9 | G19: =VLOOKUP(B19,Orçamento!$C$7:$I$245,7,0) -> 0 | H19: =SUMIFS(Orçamento!$J$7:$J$245,Orçamento!$C$7:$C$245,B19) -> 0 | I19: =H19/$H$115 -> #DIV/0! | J19: =I19+J18 -> #DIV/0!
A20: 1107908 | B20: Concreto fck = 40 MPa - confecção em betoneira e lançamento manual - areia e brita comerciais | C20: =VLOOKUP(B20,Orçamento!$C$7:$I$245,2,0) -> DNIT-ES 117/09 | E20: =VLOOKUP(B20,Orçamento!$C$7:$I$245,4,0) -> m³ | F20: =SUMIFS(Orçamento!$G$7:$G$245,Orçamento!$C$7:$C$245,B20) -> 349.9 | G20: =VLOOKUP(B20,Orçamento!$C$7:$I$245,7,0) -> 0 | H20: =SUMIFS(Orçamento!$J$7:$J$245,Orçamento!$C$7:$C$245,B20) -> 0 | I20: =H20/$H$115 -> #DIV/0! | J20: =I20+J19 -> #DIV/0!
A21: S/C | B21: Instalação de canteiro de obras e alojamentos | C21: =VLOOKUP(B21,Orçamento!$C$7:$I$245,2,0) -> 0 | E21: =VLOOKUP(B21,Orçamento!$C$7:$I$245,4,0) -> unid | F21: =SUMIFS(Orçamento!$G$7:$G$245,Orçamento!$C$7:$C$245,B21) -> 1 | G21: =VLOOKUP(B21,Orçamento!$C$7:$I$245,7,0) -> 0 | H21: =SUMIFS(Orçamento!$J$7:$J$245,Orçamento!$C$7:$C$245,B21) -> 0 | I21: =H21/$H$115 -> #DIV/0! | J21: =I21+J20 -> #DIV/0!
A22: 96396 | B22: Execução e compactação de base e ou sub base com brita graduada simples - exclusive carga e transporte | C22: =VLOOKUP(B22,Orçamento!$C$7:$I$245,2,0) -> 0 | E22: =VLOOKUP(B22,Orçamento!$C$7:$I$245,4,0) -> m³ | F22: =SUMIFS(Orçamento!$G$7:$G$245,Orçamento!$C$7:$C$245,B22) -> 635.286 | G22: =VLOOKUP(B22,Orçamento!$C$7:$I$245,7,0) -> 0 | H22: =SUMIFS(Orçamento!$J$7:$J$245,Orçamento!$C$7:$C$245,B22) -> 0 | I22: =H22/$H$115 -> #DIV/0! | J22: =I22+J21 -> #DIV/0!
A23: 95875 | B23: Transporte com caminhão basculante de 10 m3, em via urbana pavimentada, DMT até 30 km | C23: =VLOOKUP(B23,Orçamento!$C$7:$I$245,2,0) -> 0 | E23: =VLOOKUP(B23,Orçamento!$C$7:$I$245,4,0) -> m³ x km | F23: =SUMIFS(Orçamento!$G$7:$G$245,Orçamento!$C$7:$C$245,B23) -> 41272.414 | G23: =VLOOKUP(B23,Orçamento!$C$7:$I$245,7,0) -> 0 | H23: =SUMIFS(Orçamento!$J$7:$J$245,Orçamento!$C$7:$C$245,B23) -> 0 | I23: =H23/$H$115 -> #DIV/0! | J23: =I23+J22 -> #DIV/0!
A24: 3806420 | B24: Lançamento de viga pré-moldada de até 500 kN com utilização de guindaste | C24: =VLOOKUP(B24,Orçamento!$C$7:$I$245,2,0) -> 0 | E24: =VLOOKUP(B24,Orçamento!$C$7:$I$245,4,0) -> un | F24: =SUMIFS(Orçamento!$G$7:$G$245,Orçamento!$C$7:$C$245,B24) -> 25 | G24: =VLOOKUP(B24,Orçamento!$C$7:$I$245,7,0) -> 0 | H24: =SUMIFS(Orçamento!$J$7:$J$245,Orçamento!$C$7:$C$245,B24) -> 0 | I24: =H24/$H$115 -> #DIV/0! | J24: =I24+J23 -> #DIV/0!
A25: 2306065 | B25: Estaca raiz perfurada no solo com D = 31 cm – confecção | C25: =VLOOKUP(B25,Orçamento!$C$7:$I$245,2,0) -> DNIT-ES 121/09 | E25: =VLOOKUP(B25,Orçamento!$C$7:$I$245,4,0) -> m | F25: =SUMIFS(Orçamento!$G$7:$G$245,Orçamento!$C$7:$C$245,B25) -> 636 | G25: =VLOOKUP(B25,Orçamento!$C$7:$I$245,7,0) -> 0 | H25: =SUMIFS(Orçamento!$J$7:$J$245,Orçamento!$C$7:$C$245,B25) -> 0 | I25: =H25/$H$115 -> #DIV/0! | J25: =I25+J24 -> #DIV/0!
A26: 2108169 | B26: Escoramento com pontaletes D = 15 cm - utilização de 1 vez - confecção e instalação | C26: =VLOOKUP(B26,Orçamento!$C$7:$I$245,2,0) -> 0 | E26: =VLOOKUP(B26,Orçamento!$C$7:$I$245,4,0) -> m³ | F26: =SUMIFS(Orçamento!$G$7:$G$245,Orçamento!$C$7:$C$245,B26) -> 1714.6 | G26: =VLOOKUP(B26,Orçamento!$C$7:$I$245,7,0) -> 0 | H26: =SUMIFS(Orçamento!$J$7:$J$245,Orçamento!$C$7:$C$245,B26) -> 0 | I26: =H26/$H$115 -> #DIV/0! | J26: =I26+J25 -> #DIV/0!
A27: 41180 | B27: Poste reto 12 metros de altura engastado | C27: =VLOOKUP(B27,Orçamento!$C$7:$I$245,2,0) -> 0 | E27: =VLOOKUP(B27,Orçamento!$C$7:$I$245,4,0) -> und | F27: =SUMIFS(Orçamento!$G$7:$G$245,Orçamento!$C$7:$C$245,B27) -> 16 | G27: =VLOOKUP(B27,Orçamento!$C$7:$I$245,7,0) -> 0 | H27: =SUMIFS(Orçamento!$J$7:$J$245,Orçamento!$C$7:$C$245,B27) -> 0 | I27: =H27/$H$115 -> #DIV/0! | J27: =I27+J26 -> #DIV/0!
A28: 5915400 | B28: Carga, descarga e manobra de vigas pré-moldadas de até 500 kN em cavalo mecânico com dolly de 4 eixos com capacidade de 57 t | C28: =VLOOKUP(B28,Orçamento!$C$7:$I$245,2,0) -> 0 | E28: =VLOOKUP(B28,Orçamento!$C$7:$I$245,4,0) -> un | F28: =SUMIFS(Orçamento!$G$7:$G$245,Orçamento!$C$7:$C$245,B28) -> 25 | G28: =VLOOKUP(B28,Orçamento!$C$7:$I$245,7,0) -> 0 | H28: =SUMIFS(Orçamento!$J$7:$J$245,Orçamento!$C$7:$C$245,B28) -> 0 | I28: =H28/$H$115 -> #DIV/0! | J28: =I28+J27 -> #DIV/0!
A29: P9869 | B29: Encarregado de obra de arte especial | C29: =VLOOKUP(B29,Orçamento!$C$7:$I$245,2,0) -> 0 | E29: =VLOOKUP(B29,Orçamento!$C$7:$I$245,4,0) -> mês | F29: =SUMIFS(Orçamento!$G$7:$G$245,Orçamento!$C$7:$C$245,B29) -> 10 | G29: =VLOOKUP(B29,Orçamento!$C$7:$I$245,7,0) -> 0 | H29: =SUMIFS(Orçamento!$J$7:$J$245,Orçamento!$C$7:$C$245,B29) -> 0 | I29: =H29/$H$115 -> #DIV/0! | J29: =I29+J28 -> #DIV/0!
A30: 1107860 | B30: Lançamento mecânico de concreto com bomba lança sobre chassi com capacidade de 50 m³/h - confecção em central dosadora de 40 m³/h | C30: =VLOOKUP(B30,Orçamento!$C$7:$I$245,2,0) -> 0 | E30: =VLOOKUP(B30,Orçamento!$C$7:$I$245,4,0) -> m³ | F30: =SUMIFS(Orçamento!$G$7:$G$245,Orçamento!$C$7:$C$245,B30) -> 1755.7764 | G30: =VLOOKUP(B30,Orçamento!$C$7:$I$245,7,0) -> 0 | H30: =SUMIFS(Orçamento!$J$7:$J$245,Orçamento!$C$7:$C$245,B30) -> 0 | I30: =H30/$H$115 -> #DIV/0! | J30: =I30+J29 -> #DIV/0!
A31: 92223 | B31: Tubo de concreto para redes coletoras de águas pluviais, diâmetro de 800 mm, junta rígida, instalado em local com alto nível de interferências - fornecimento e assentamento | C31: =VLOOKUP(B31,Orçamento!$C$7:$I$245,2,0) -> 0 | E31: =VLOOKUP(B31,Orçamento!$C$7:$I$245,4,0) -> un | F31: =SUMIFS(Orçamento!$G$7:$G$245,Orçamento!$C$7:$C$245,B31) -> 114.2 | G31: =VLOOKUP(B31,Orçamento!$C$7:$I$245,7,0) -> 0 | H31: =SUMIFS(Orçamento!$J$7:$J$245,Orçamento!$C$7:$C$245,B31) -> 0 | I31: =H31/$H$115 -> #DIV/0! | J31: =I31+J30 -> #DIV/0!
A32: E9093 | B32: Veículo leve - 53 kW (sem motorista) | C32: =VLOOKUP(B32,Orçamento!$C$7:$I$245,2,0) -> 0 | E32: =VLOOKUP(B32,Orçamento!$C$7:$I$245,4,0) -> mês | F32: =SUMIFS(Orçamento!$G$7:$G$245,Orçamento!$C$7:$C$245,B32) -> 19 | G32: =VLOOKUP(B32,Orçamento!$C$7:$I$245,7,0) -> 0 | H32: =SUMIFS(Orçamento!$J$7:$J$245,Orçamento!$C$7:$C$245,B32) -> 0 | I32: =H32/$H$115 -> #DIV/0! | J32: =I32+J31 -> #DIV/0!
A33: S/C | B33: Instalação de fita de advertência subterrânea (7,6cmx300m) | C33: =VLOOKUP(B33,Orçamento!$C$7:$I$245,2,0) -> 0 | E33: =VLOOKUP(B33,Orçamento!$C$7:$I$245,4,0) -> m | F33: =SUMIFS(Orçamento!$G$7:$G$245,Orçamento!$C$7:$C$245,B33) -> 190 | G33: =VLOOKUP(B33,Orçamento!$C$7:$I$245,7,0) -> 0 | H33: =SUMIFS(Orçamento!$J$7:$J$245,Orçamento!$C$7:$C$245,B33) -> 0 | I33: =H33/$H$115 -> #DIV/0! | J33: =I33+J32 -> #DIV/0!
A34: 3713604 | B34: Defensa H2 A W4 | C34: =VLOOKUP(B34,Orçamento!$C$7:$I$245,2,0) -> 0 | E34: =VLOOKUP(B34,Orçamento!$C$7:$I$245,4,0) -> m | F34: =SUMIFS(Orçamento!$G$7:$G$245,Orçamento!$C$7:$C$245,B34) -> 94 | G34: =VLOOKUP(B34,Orçamento!$C$7:$I$245,7,0) -> 0 | H34: =SUMIFS(Orçamento!$J$7:$J$245,Orçamento!$C$7:$C$245,B34) -> 0 | I34: =H34/$H$115 -> #DIV/0! | J34: =I34+J33 -> #DIV/0!
A35: E9125 | B35: Van furgão a diesel - 93 kW | C35: =VLOOKUP(B35,Orçamento!$C$7:$I$245,2,0) -> 0 | E35: =VLOOKUP(B35,Orçamento!$C$7:$I$245,4,0) -> mês | F35: =SUMIFS(Orçamento!$G$7:$G$245,Orçamento!$C$7:$C$245,B35) -> 4.554 | G35: =VLOOKUP(B35,Orçamento!$C$7:$I$245,7,0) -> 0 | H35: =SUMIFS(Orçamento!$J$7:$J$245,Orçamento!$C$7:$C$245,B35) -> 0 | I35: =H35/$H$115 -> #DIV/0! | J35: =I35+J34 -> #DIV/0!
A36: 5213360 | B36: Tacha refletiva em plástico injetado - bidirecional tipo I - com um pino - fornecimento e colocação | C36: =VLOOKUP(B36,Orçamento!$C$7:$I$245,2,0) -> 0 | E36: =VLOOKUP(B36,Orçamento!$C$7:$I$245,4,0) -> un | F36: =SUMIFS(Orçamento!$G$7:$G$245,Orçamento!$C$7:$C$245,B36) -> 513 | G36: =VLOOKUP(B36,Orçamento!$C$7:$I$245,7,0) -> 0 | H36: =SUMIFS(Orçamento!$J$7:$J$245,Orçamento!$C$7:$C$245,B36) -> 0 | I36: =H36/$H$115 -> #DIV/0! | J36: =I36+J35 -> #DIV/0!
A37: 92219 | B37: Tubo de concreto para redes coletoras de águas pluviais, diâmetro de 400 mm, junta rígida, instalado em local com alto nível de interferências - fornecimento e assentamento | C37: =VLOOKUP(B37,Orçamento!$C$7:$I$245,2,0) -> 0 | E37: =VLOOKUP(B37,Orçamento!$C$7:$I$245,4,0) -> un | F37: =SUMIFS(Orçamento!$G$7:$G$245,Orçamento!$C$7:$C$245,B37) -> 212.8 | G37: =VLOOKUP(B37,Orçamento!$C$7:$I$245,7,0) -> 0 | H37: =SUMIFS(Orçamento!$J$7:$J$245,Orçamento!$C$7:$C$245,B37) -> 0 | I37: =H37/$H$115 -> #DIV/0! | J37: =I37+J36 -> #DIV/0!
A38: 61802 | B38: Poço de visita tipo 2 - 1,60 x 1,60 x 1,60m | C38: =VLOOKUP(B38,Orçamento!$C$7:$I$245,2,0) -> 0 | E38: =VLOOKUP(B38,Orçamento!$C$7:$I$245,4,0) -> un | F38: =SUMIFS(Orçamento!$G$7:$G$245,Orçamento!$C$7:$C$245,B38) -> 6 | G38: =VLOOKUP(B38,Orçamento!$C$7:$I$245,7,0) -> 0 | H38: =SUMIFS(Orçamento!$J$7:$J$245,Orçamento!$C$7:$C$245,B38) -> 0 | I38: =H38/$H$115 -> #DIV/0! | J38: =I38+J37 -> #DIV/0!
A39: P9827 | B39: Vigia | C39: =VLOOKUP(B39,Orçamento!$C$7:$I$245,2,0) -> 0 | E39: =VLOOKUP(B39,Orçamento!$C$7:$I$245,4,0) -> mês | F39: =SUMIFS(Orçamento!$G$7:$G$245,Orçamento!$C$7:$C$245,B39) -> 10 | G39: =VLOOKUP(B39,Orçamento!$C$7:$I$245,7,0) -> 0 | H39: =SUMIFS(Orçamento!$J$7:$J$245,Orçamento!$C$7:$C$245,B39) -> 0 | I39: =H39/$H$115 -> #DIV/0! | J39: =I39+J38 -> #DIV/0!
A40: P9804 | B40: Apontador | C40: =VLOOKUP(B40,Orçamento!$C$7:$I$245,2,0) -> 0 | E40: =VLOOKUP(B40,Orçamento!$C$7:$I$245,4,0) -> mês | F40: =SUMIFS(Orçamento!$G$7:$G$245,Orçamento!$C$7:$C$245,B40) -> 10 | G40: =VLOOKUP(B40,Orçamento!$C$7:$I$245,7,0) -> 0 | H40: =SUMIFS(Orçamento!$J$7:$J$245,Orçamento!$C$7:$C$245,B40) -> 0 | I40: =H40/$H$115 -> #DIV/0! | J40: =I40+J39 -> #DIV/0!
A41: S/C | B41: Desmobilização de equipamento | C41: =VLOOKUP(B41,Orçamento!$C$7:$I$245,2,0) -> 0 | E41: =VLOOKUP(B41,Orçamento!$C$7:$I$245,4,0) -> unid | F41: =SUMIFS(Orçamento!$G$7:$G$245,Orçamento!$C$7:$C$245,B41) -> 1 | G41: =VLOOKUP(B41,Orçamento!$C$7:$I$245,7,0) -> 0 | H41: =SUMIFS(Orçamento!$J$7:$J$245,Orçamento!$C$7:$C$245,B41) -> 0 | I41: =H41/$H$115 -> #DIV/0! | J41: =I41+J40 -> #DIV/0!
...

Sheet Canteiro Id
A1: =Cronograma!A1 -> PREFEITURA MUNICIPAL DE NOVA ERA
A3: =Cronograma!A4 -> Obra: Ponte sob o rio Piracicaba
A4: =Cronograma!A5 -> Rodovia: Ligação entre Rua Quincas Honorato e Rua Rio Piracicaba
A5: =Cronograma!A6 -> Trecho: Ponto localizado
A6: =Cronograma!A7 -> Coordenadas: 19°45'54.13"S / 43° 1'45.24"O | H6: =Cronograma!H7 -> D. Base: Jul/2022 (Des)
A7: CANTEIRO DE OBRA E ACAMPAMENTO - IDENTIFICAÇÃO
A9: A | B9: Identificação do empreendimento
A10: =A3 -> Obra: Ponte sob o rio Piracicaba
A11: =A4 -> Rodovia: Ligação entre Rua Quincas Honorato e Rua Rio Piracicaba | F11: Código SRE:
A12: =A5 -> Trecho: Ponto localizado
A13: =A6 -> Coordenadas: 19°45'54.13"S / 43° 1'45.24"O
A14: Extensão: 125,40m | G14: Largura: 14,00 m
A15: Prazo de execução: 300 dias
A16: Mão de obra ordinária média (funcionários/mês): | G16: 24 | H16: funcionários
A17: Mão de obra parcela fixa da administ local (especializada funcion/mês): | G17: 2 | H17: funcionários
A18: Mão de obra parcela fixa da administ local (não especializ funcion/mês): | G18: 3 | H18: funcionários
A19: Mão de obra parcela vinculada da administ local (espec funcion/mês): | G19: 3 | H19: funcionários
A20: Mão de obra parcela vinculada da administ local (não espec funcion/mês): | G20: 3 | H20: funcionários
A21: Mão de obra parcela variável da administração local (funcionários/mês): | G21: 0 | H21: funcionários
A22: Distância entre o canteiro e a cidade mais próxima (pavimentado): | G22: 0 | H22: km
A23: Distância entre o canteiro e a cidade mais próxima (não pavimentado): | G23: 0 | H23: km
A24: Unidade da Federação: | G24: Minas Gerais
A25: Mês-base: | G25: Julho de 2022
A27: B | B27: Classificação da Obra
A28: Obra de Arte Especial de Pequeno Porte (1 unid de 125,40 m / 270 dias)
A30: C | B30: Caracterização da Mão de Obra
A31: • Número de funcionários da mão de obra ordinária no mês de pico (NMO)
A32: NMO = | B32: 1,33 x | C32: =G16 -> 24 | D32: = | E32: =ROUND(1.33*C32,0) -> 32 | F32: funcionários/mês
A33: • Número de funcionários da parcela variável no mês de pico (NPV)
A34: NPV = | B34: 1,33 x | C34: =G21 -> 0 | D34: = | E34: =ROUND(1.33*C34,0) -> 0 | F34: funcionários/mês
A35: • Número de funcionários especializ e não especializ da parcela fixa da administração local (NPF)
A36: NPF = | B36: =G17 -> 2 | C36: funcion espec/mês | F36: =G18 -> 3 | G36: funcion não espec/mês
A37: • Número de funcionários especializ e não especializados das parcelas fixa e vinculada (NPF-V)
A38: NPF-V1 = | B38: =G17+G19 -> 5 | C38: funcion espec/mês | E38: NPF-V2 = | F38: =G18+G20 -> 6 | G38: funcion não espec/mês
A39: • Número de funcionários alojados no canteiro (NFA) (Obra no Pantanal, s/ comunidades próximas)
A40: NFA = | B40: (NPF + NPVINC)+((NPV+NMORDIN)/2) = | E40: =ROUND((G17+G18+G19+G20)+((G21+G16)/2),0) -> 23 | F40: funcionários/mês
A41: • Número máximo de funcionários (NMAX)
A42: NMAX = | B42: =E32+E34+B38+F38 -> 43 | C42: funcionários/mês
A44: D | B44: Fator de Produção de Construção (k1)
A45: Padrão de construção provisório - k1 = | E45: 0.8
...

Sheet Canteiro Qtd
A1: =Cronograma!A1 -> PREFEITURA MUNICIPAL DE NOVA ERA
A3: =Cronograma!A4 -> Obra: Ponte sob o rio Piracicaba
A4: =Cronograma!A5 -> Rodovia: Ligação entre Rua Quincas Honorato e Rua Rio Piracicaba
A5: =Cronograma!A6 -> Trecho: Ponto localizado
A6: =Cronograma!A7 -> Coordenadas: 19°45'54.13"S / 43° 1'45.24"O | H6: =Cronograma!H7 -> D. Base: Jul/2022 (Des)
A7: CANTEIRO DE OBRA E ACAMPAMENTO - QUANTIFICAÇÃO
A9: H | B9: Instalações com Utilização de Container
A10: Instalações | C10: Container | F10: Área | G10: Valor Aquis | H10: Custo (R$)
A11: Escritório e Seção Téc | C11: 1 TEU revest térm (ar cond) c/ jan e 1 ban | F11: 29.72 | G11: 52156 | H11: =ROUND(G11*10/60,2) -> 8692.67 | I11: M0066
A12: Alojamento (2 unid) | C12: 2 TEU revest térm (ar cond) c/ jan e 1 ban | F12: 29.72 | G12: 43247.276 | H12: =ROUND(G12*10*2/60,2) -> 14415.76 | I12: M0059
A13: Residencia (2 unid) | C13: 2 TEU revest térm (ar cond) c/ jan e 1 ban | F13: 29.72 | G13: 43247.276 | H13: =ROUND(G13*10*2/60,2) -> 14415.76 | I13: M0059
A14: Refeitório (1 unid) | C14: 1 TEU duplo (6,0 m x 4,88 m) c/ jan e 2 lav | F14: =1*14.77 -> 14.77 | G14: 78077.269 | H14: =ROUND(G14*10/60,2) -> 13012.88 | I14: M0058
A15: Cozinha | C15: 1 TEU duplo (6,0 m x 4,88 m) c/ jan | F15: 14.77 | G15: 74265.869 | H15: =ROUND(G15*10/60,2) -> 12377.64 | I15: M0057
A16: Banh e vestiário (2 un) | C16: 1 TEU com 2 banheiros | F16: =2*14.77 -> 29.54 | G16: 51082.073 | H16: =ROUND(G16*10/60,2) -> 8513.68 | I16: M0041
A17: Almoxarifado | C17: 1 TEU duplo (6,0 m x 4,88 m) com janela | F17: 14.77 | G17: 74265.869 | H17: =ROUND(G17*10/60,2) -> 12377.64 | I17: M0057
C18: Total | F18: =SUM(F11:F17) -> 163.01 | H18: =SUM(H11:H17) -> 83806.03
A20: I.1 | B20: Cálculo de Áreas de Instalações pela Quantidade de Funcionários | G20: Cálculo | H20: Projeto
A21: Alojamentos (50 % alojados) | D21: AAL = 3,11 x 50% (NMO + NPV + NP-FV2) | G21: =ROUND(3.11*(0.5*('Canteiro Id'!E32+'Canteiro Id'!E34+'Canteiro Id'!F38)),2) -> 59.09 | H21: Locação
A22: Refeitório e cozinha | D22: AR-C = 1,55 x 50% Nmax | G22: =ROUND(1.55*0.5*'Canteiro Id'!B42,2) -> 33.33 | H22: =F14+F15 -> 29.54
A23: Banheiros e vestiário | D23: AB-V = 0,77 x (NMO + NPV + NP-FV2) | G23: =ROUND(0.77*('Canteiro Id'!E32+'Canteiro Id'!E34+'Canteiro Id'!F38),2) -> 29.26 | H23: =F16 -> 29.54
A24: Área de recreação | D24: AAR = 1,5 x 50% NFA | G24: =ROUND(1.5*0.5*'Canteiro Id'!E40,2) -> 17.25 | H24: =G24 -> 17.25
A25: Residências | D25: ARES = 8,46 x NPF-V1 | G25: =ROUND(8.46*('Canteiro Id'!B38),2) -> 42.3 | H25: Locação
A27: I.2 | B27: Áreas do Canteiro de Obra em Construção Provisória (Barracão - com reaproveitamento)
A28: Instalações | G28: Unidade | H28: Área (m²)
A29: Alojamentos em barracão de madeira - Desenho 4.1-07 | G29: m² | H29: 0
A30: Refeitório e cozinha em barracão de madeira - Desenho 4.1-06 | G30: m² | H30: =H22*0 -> 0
A31: Banheiros e vestiários em barracão de madeira - Desenho 4.1-08 | G31: m² | H31: =H23*0 -> 0
A32: Área de recreação em barracão de madeira | G32: m² | H32: =H24 -> 17.25
A33: Residências em barracão de madeira - Desenho 3.1-18 | G33: m² | H33: 0
A34: Almoxarifado em barracão de madeira - Desenho 4.1-03 | G34: m² | H34: =36.42*0 -> 0
A35: Depósito de cimento em barracão de madeira - Desenho 4.1-04 | G35: m² | H35: =62.44*0 -> 0
A36: Central de armaduras em barracão de madeira - Desenho 4.1-05 | G36: m² | H36: 84.79
A37: Oficina em barracão de madeira - Desenho 4.1-09 | G37: m² | H37: =0*18.1 -> 0
A38: Carpintaria em barracão de madeira - Desenho 4.1-15 | G38: m² | H38: 111.26
A39: Guarita em barracão de madeira - Desenho 4.1-17 | G39: m² | H39: =0*6.1 -> 0
A40: Garagens - Desenho 4.1-10 (Área descoberta - prevista no FEAD) | G40: m² | H40: 224.35
A41: Posto de combustível - Desenho 4.1-14 (Área descoberta - prevista no FEAD) | G41: m² | H41: 0
A43: J | B43: Fatores de Equivalência de Áreas
A44: J.1 | B44: Áreas Cobertas | F44: Aproveitamento do material de 3 vezes
A45: Instalações | D45: Unidade | E45: Área Refer | F45: FEAC (%) | G45: Aproveitam | H45: Áreas Equiv.
...

Sheet Adm Local
A1: =Cronograma!A1 -> PREFEITURA MUNICIPAL DE NOVA ERA
A3: =Cronograma!A4 -> Obra: Ponte sob o rio Piracicaba
A4: =Cronograma!A5 -> Rodovia: Ligação entre Rua Quincas Honorato e Rua Rio Piracicaba
A5: =Cronograma!A6 -> Trecho: Ponto localizado
A6: =Cronograma!A7 -> Coordenadas: 19°45'54.13"S / 43° 1'45.24"O | J6: =Cronograma!H7 -> D. Base: Jul/2022 (Des)
A7: ADMINISTRAÇÃO LOCAL - PARCELA FIXA E VINCULADA
A8: ITEM | B8: CÓDIGO | C8: DESCRIÇÃO | D8: Unid | E8: Quantid | F8: Ocupação Produtiva | G8: Unidade Produtiva | H8: Quantid Produtiva | I8: Preço unitário | J8: Preço Total
A9: 1 | C9: Parcela Fixa - Gerência Técnica / Administrativa
A10: 1.1 | C10: Gerência técnica
A11: 1.1.1 | C11: Mão de Obra
A12: 1.1.1.1 | B12: P9819 | C12: Engenheiro supervisor | D12: unid | E12: 9 | F12: 1 | G12: mês | H12: =F12*E12 -> 9 | I12: =VLOOKUP(B12,'Mão de obra'!$A$3:$E$34,4,0) -> 20145.679 | J12: =TRUNC(I12*H12,2) -> 181311.1 | K12: =J12*1.207 -> 218842.5
A13: 1.1.1.2 | B13: P9897 | C13: Tecnico em meio ambiente | D13: unid | E13: 1 | F13: 1 | G13: mês | H13: =F13*E13 -> 1 | I13: =VLOOKUP(B13,'Mão de obra'!$A$3:$E$34,4,0) -> 5972.8843 | J13: =TRUNC(I13*H13,2) -> 5972.88 | K13: =J13*1.207 -> 7209.2662
A15: 1.1.2 | C15: Veículos | F15: Utiliz Prod | G15: Utiliz Impr | H15: Hora Prod | I15: Hora Impr
A16: 1.1.2.1 | B16: E9093 | C16: Veículo leve - 53 kW (sem motorista) | D16: unid | E16: =E12 -> 9 | F16: 44 | G16: 176 | H16: =VLOOKUP(B16,Equipamento!$A$8:$E$91,4,0) -> 42.3946 | I16: =VLOOKUP(B16,Equipamento!$A$8:$E$91,5,0) -> 5.6387 | J16: =TRUNC(E16*(F16*H16+G16*I16),2) -> 25719.96 | K16: =J16*1.207 -> 31043.992
A17: 1.1.2.2 | B17: S/C | C17: Van passageiro - 93 Kw | D17: unid | E17: =E16 -> 9 | F17: 25 | G17: =220-F17 -> 195 | H17: =Equipamento!D89 -> 52.1513 | I17: ='Custo Equipamentos'!K15 -> 7.2297 | J17: =TRUNC(E17*(F17*H17+G17*I17),2) -> 24422.16 | K17: =J17*1.207 -> 29477.547
C18: Obra com canteiro de obra pontual. A empresa não mantem um motorista só para atuar na van, ficando o custo de operação somente na hora produtiva
A20: 1.2 | C20: Gerência administrativa
A21: 1.2.1 | C21: Mão de Obra
A22: 1.2.1.1 | B22: P9827 | C22: Vigia | D22: unid | E22: 10 | F22: 1 | G22: mês | H22: =F22*E22 -> 10 | I22: =VLOOKUP(B22,'Mão de obra'!$A$3:$E$34,4,0) -> 3666.1621 | J22: =TRUNC(I22*H22,2) -> 36661.62 | K22: =J22*1.207 -> 44250.575
A23: 1.2.1.2 | B23: P9806 | C23: Auxiliar administrativo | D23: unid | E23: 5 | F23: 1 | G23: mês | H23: =F23*E23 -> 5 | I23: =VLOOKUP(B23,'Mão de obra'!$A$3:$E$34,4,0) -> 3501.0247 | J23: =TRUNC(I23*H23,2) -> 17505.12 | K23: =J23*1.207 -> 21128.68
A25: 2 | C25: Parcela Vinculada
A26: 2.1 | C26: Equipe de obra de arte especial
A27: 2.1.1 | C27: Mão de Obra
A28: 2.1.1 | B28: P9869 | C28: Encarregado de obra de arte especial | D28: unid | E28: 10 | F28: 1 | G28: mês | H28: =F28*E28 -> 10 | I28: =VLOOKUP(B28,'Mão de obra'!$A$3:$E$34,4,0) -> 7461.9394 | J28: =TRUNC(I28*H28,2) -> 74619.39 | K28: =TRUNC(J28*1.207,2) -> 90065.6
A29: 2.1.3 | B29: P9804 | C29: Apontador | D29: unid | E29: 10 | F29: 1 | G29: mês | H29: =F29*E29 -> 10 | I29: =VLOOKUP(B29,'Mão de obra'!$A$3:$E$34,4,0) -> 3636.1655 | J29: =TRUNC(I29*H29,2) -> 36361.65 | K29: =TRUNC(J29*1.207,2) -> 43888.51
A31: 2.1.2 | C31: Veículos | F31: Utiliz Prod | G31: Utiliz Impr | H31: Hora Prod | I31: Hora Impr
A32: 2.1.2.1 | B32: E9093 | C32: Veículo leve - 53 kW (sem motorista) | D32: unid | E32: =E29 -> 10 | F32: 44 | G32: 176 | H32: =VLOOKUP(B32,Equipamento!$A$8:$E$91,4,0) -> 42.3946 | I32: =VLOOKUP(B32,Equipamento!$A$8:$E$91,5,0) -> 5.6387 | J32: =TRUNC(E32*(F32*H32+G32*I32),2) -> 28577.73 | K32: =TRUNC(J32*1.207,2) -> 34493.32
A34: 2.2 | C34: Equipe de topografia
A35: 2.2.1 | C35: Mão de Obra
A36: 2.2.1.1 | B36: P9949 | C36: Topógrafo | D36: unid | E36: 3 | F36: 1 | G36: mês | H36: =F36*E36 -> 3 | I36: =VLOOKUP(B36,'Mão de obra'!$A$3:$E$34,4,0) -> 5341.4178 | J36: =TRUNC(I36*H36,2) -> 16024.25 | K36: =TRUNC(J36*1.207,2) -> 19341.26
A37: 2.2.1.2 | B37: P9950 | C37: Auxiliar de topografia | D37: unid | E37: 1.5 | F37: =F36 -> 1 | G37: mês | H37: =F37*E37 -> 1.5 | I37: =VLOOKUP(B37,'Mão de obra'!$A$3:$E$34,4,0) -> 4985.1869 | J37: =TRUNC(I37*H37,2) -> 7477.78 | K37: =TRUNC(J37*1.207,2) -> 9025.68
A39: 2.2.2 | C39: Veículos | F39: Utiliz Prod | G39: Utiliz Impr | H39: Hora Prod | I39: Hora Impr
A40: 2.2.2.1 | B40: E9125 | C40: Van furgão a diesel - 93 kW | D40: unid | E40: =E36 -> 3 | F40: 44 | G40: 176 | H40: =VLOOKUP(B40,Equipamento!$A$8:$E$91,4,0) -> 77.3436 | I40: =VLOOKUP(B40,Equipamento!$A$8:$E$91,5,0) -> 35.8093 | J40: =TRUNC(E40*(F40*H40+G40*I40),2) -> 29116.66 | K40: =TRUNC(J40*1.207,2) -> 35143.8
A42: 2.3 | C42: Equipe de medicina e segurança do trabalho
A43: 2.3.1 | C43: Mão de Obra
A44: 2.3.1.1 | B44: P9876 | C44: Técnico de segurança do trabalho | D44: unid | E44: 4 | F44: 1 | G44: mês | H44: =F44*E44 -> 4 | I44: =VLOOKUP(B44,'Mão de obra'!$A$3:$E$34,4,0) -> 5720.5522 | J44: =TRUNC(I44*H44,2) -> 22882.2 | K44: =TRUNC(J44*1.207,2) -> 27618.81
C46: Valor da Parcela Fixa e Vinculada - Equipe de Administração Local (Sem BDI) | J46: =SUM(J9:J45) -> 506652.5

Sheet Adm Lab
A1: =Cronograma!A1 -> PREFEITURA MUNICIPAL DE NOVA ERA
A3: =Cronograma!A4 -> Obra: Ponte sob o rio Piracicaba
A4: =Cronograma!A5 -> Rodovia: Ligação entre Rua Quincas Honorato e Rua Rio Piracicaba
A5: =Cronograma!A6 -> Trecho: Ponto localizado
A6: =Cronograma!A7 -> Coordenadas: 19°45'54.13"S / 43° 1'45.24"O | F6: =Cronograma!H7 -> D. Base: Jul/2022 (Des)
A7: EQUIPES DE CONTROLE TECNOLÓGICO
A8: CÓDIGO | B8: DESCRIÇÃO | C8: Unid | D8: Quant (QP) | E8: Quant (QE) | F8: Equipe (ELS)
B9: 1 - Equipes de Controle Tecnológico
B10: 1.1 - Laboratório de Solo
A11: 5502978 | B11: Compactação de aterros a 100% do Proctor normal | C11: m³ | D11: =Orçamento!G120 -> 2901.23 | E11: 169000 | F11: =TRUNC(D11/E11,4) -> 0.0171
B13: Total de equipes de laboratório de solo | F13: =SUM(F11:F12) -> 0.0171
B15: 1.1 - Laboratório de Concreto
B16: INFRAESTRUTURA
A17: 1107900 | B17: Concreto fck = 30 MPa - confecção em betoneira e lançamento manual - areia e brita comerciais | C17: m³ | D17: =Orçamento!G31 -> 10.61 | E17: 1100 | F17: =D17/E17 -> 0.0096454545
A18: 1106057 | B18: Concreto magro - confecção em betoneira e lançamento manual - areia e brita comerciais | C18: m³ | D18: =Orçamento!G30 -> 654.68 | E18: 1100 | F18: =D18/E18 -> 0.59516364
B19: MESOESTRUTURA
A20: 1107900 | B20: Concreto fck = 30 MPa - confecção em betoneira e lançamento manual - areia e brita comerciais | C20: m³ | D20: =Orçamento!G50 -> 171.35 | E20: 1100 | F20: =D20/E20 -> 0.15577273
B21: SUPERESTRUTURA
B22: Longarinas
A23: 1107904 | B23: Concreto fck = 35 MPa - confecção em betoneira e lançamento manual - areia e brita comerciais | C23: m³ | D23: =Orçamento!G62 -> 349.9 | E23: 1100 | F23: =D23/E23 -> 0.31809091
B24: Alas + Cortinas + Berços
A25: 1107900 | B25: Concreto fck = 30 MPa - confecção em betoneira e lançamento manual - areia e brita comerciais | C25: m³ | D25: =Orçamento!G75 -> 433.26 | E25: 1100 | F25: =D25/E25 -> 0.39387273
B26: Barreia New Jersey + Placa de Transição
A27: 1107900 | B27: Concreto fck = 30 MPa - confecção em betoneira e lançamento manual - areia e brita comerciais | C27: m³ | D27: =Orçamento!G86 -> 89.06 | E27: 1100 | F27: =D27/E27 -> 0.080963636
B29: Total de equipes de laboratório de concreto | F29: =SUM(F15:F28) -> 1.5535091

Sheet Manut. Canteiro
A1: =Cronograma!A1 -> PREFEITURA MUNICIPAL DE NOVA ERA
A3: =Cronograma!A4 -> Obra: Ponte sob o rio Piracicaba
A4: =Cronograma!A5 -> Rodovia: Ligação entre Rua Quincas Honorato e Rua Rio Piracicaba
A5: =Cronograma!A6 -> Trecho: Ponto localizado
A6: =Cronograma!A7 -> Coordenadas: 19°45'54.13"S / 43° 1'45.24"O | J6: =Cronograma!H7 -> D. Base: Jul/2022 (Des)
A7: PARCELA VARIÁVEL DA ADMIN LOCAL - EQUIPE DE MANUTENÇÃO DE CANTEIRO - SEM DESONER
A8: ITEM | B8: CÓDIGO | C8: DESCRIÇÃO | D8: Unid | E8: Quantid | F8: Propor de Áreas | G8: Unidade Produtiva | H8: Quantid Produtiva | I8: Preço unitário | J8: Preço Total
A9: 1 | C9: Manutenção de Canteiro de Obras e Acampamento
A10: 1.1 | C10: ="Mão de Obra (Área coberta de referência: 1.919,27 m² - Área coberta de projeto: "&E24&" m²)" -> Mão de Obra (Área coberta de referência: 1.919,27 m² - Área coberta de projeto: 180,26 m²)
A11: 1.1.1 | B11: P9953 | C11: Eletricista | D11: mês | E11: =44/220 -> 0.2 | F11: =ROUND((E24)/1919.27,2) -> 0.09 | G11: mês | H11: =E11*F11 -> 0.018 | I11: =VLOOKUP(B11,'Mão de obra'!$A$3:$E$34,4,0) -> 4345.0148 | J11: =ROUND(H11*I11,2) -> 78.21
A12: 1.1.2 | B12: P9952 | C12: Pedreiro | D12: mês | E12: =44/220 -> 0.2 | F12: =F11 -> 0.09 | G12: mês | H12: =E12*F12 -> 0.018 | I12: =VLOOKUP(B12,'Mão de obra'!$A$3:$E$34,4,0) -> 3799.5236 | J12: =ROUND(H12*I12,2) -> 68.39
A13: 1.1.3 | B13: P9954 | C13: Servente | D13: mês | E13: =44/220 -> 0.2 | F13: =F11 -> 0.09 | G13: mês | H13: =E13*F13 -> 0.018 | I13: =VLOOKUP(B13,'Mão de obra'!$A$3:$E$34,4,0) -> 3097.444 | J13: =ROUND(H13*I13,2) -> 55.75
A15: 1.2 | C15: ="Veículos e Equipamentos (Área descoberta de ref.: 3.838,60 m² - Área descoberta de projeto: "&E26&" m²)" -> Veículos e Equipamentos (Área descoberta de ref.: 3.838,60 m² - Área descoberta de projeto: 334,77 m²)
A16: 1.2.1 | B16: E9686 | C16: Caminhão carroceria com guindauto com capacidade de 20 t.m - 136 kW | D16: h.mês | E16: 11 | F16: =ROUND(E26/3838.6,2) -> 0.09 | G16: h.mês | H16: =E16*F16 -> 0.99 | I16: =VLOOKUP(B16,Equipamento!$A$8:$E$91,4,0) -> 329.2901 | J16: =ROUND(H16*I16,2) -> 326
A17: 1.2.2 | B17: E9669 | C17: Caminhão tanque de 8.000 l - 136 kW | D17: h.mês | E17: 0 | F17: =F16 -> 0.09 | G17: h.mês | H17: =E17*F17 -> 0 | I17: =VLOOKUP(B17,Equipamento!$A$8:$E$91,4,0) -> 286.837 | J17: =ROUND(H17*I17,2) -> 0
A18: 1.2.3 | B18: E9524 | C18: Motoniveladora - 93 kW | D18: h.mês | E18: 0 | F18: =F16 -> 0.09 | G18: h.mês | H18: =E18*F18 -> 0 | I18: =VLOOKUP(B18,Equipamento!$A$8:$E$91,4,0) -> 249.7197 | J18: =ROUND(H18*I18,2) -> 0
C20: Valor Mensal da Parcela Variável - Equipe de Manutenção de Canteiro | J20: =SUM(J9:J19) -> 528.35
C22: Área coberta - Canteiro de Obra: | E22: ='Canteiro Qtd'!F62 -> 180.26
C23: Área coberta - Usina de Asfalto: | E23: 0
C24: Área total coberta (Canteiro + Usina): | E24: =E22+E23 -> 180.26
C25: Área total do canteiro + usina: | E25: ='Canteiro Qtd'!F63 -> 515.03
C26: Área descoberta do canteiro + usina: | E26: =E25-E24 -> 334.77

Sheet Mob Pessoal
A1: =Cronograma!A4 -> Obra: Ponte sob o rio Piracicaba | M1: Governo de Minas Gerais
A2: =Cronograma!A5 -> Rodovia: Ligação entre Rua Quincas Honorato e Rua Rio Piracicaba | M2: Prefeitura Municipal de Nova Era
A3: =Cronograma!A6 -> Trecho: Ponto localizado
A4: =Cronograma!A7 -> Coordenadas: 19°45'54.13"S / 43° 1'45.24"O | M4: Mobilização de Pessoal
A5: ="Extensão: "&Resumo!B23&" - Largura: "&Resumo!E23 -> Extensão: 125,4 - Largura: 14 | M5: Data base: Julho de 2022
A6: Item | B6: Discriminação | D6: Pessoal | G6: Meses | H6: Debanda (mês) | I6: Quantidade | K6: Preço | L6: Custo
B7: Cód | C7: Equipamento | D7: Quantid | E7: FU | F7: Quantid | I7: Mobiliz | J7: Desmobiliz | K7: (R$) | L7: Mobiliz | M7: Desmobiliz
A8: 1.2 | C8: Mobilização de pessoal
A9: 1.2.1 | C9: Parcela Fixa
A10: 1.2.1.1 | C10: Gerência técnica - Engenheiro | D10: 1 | E10: 1 | F10: =E10*D10 -> 1 | G10: 9 | H10: 4 | I10: =F10*G10*H10 -> 36 | J10: =F10*G10*H10 -> 36 | K10: =L28 -> 35.86 | L10: =I10*K10 -> 1290.96 | M10: =J10*K10 -> 1290.96
A11: 1.2.1.2 | C11: Gerência técnica - Técnico em Meio Ambiente | D11: 1 | E11: 1 | F11: =E11*D11 -> 1 | G11: 7 | H11: 1 | I11: =F11*G11*H11 -> 7 | J11: =F11*G11*H11 -> 7 | K11: =K10 -> 35.86 | L11: =I11*K11 -> 251.02 | M11: =J11*K11 -> 251.02
A12: 1.2.1.3 | C12: Gerência administrativa | D12: 1 | E12: 1 | F12: =E12*D12 -> 1 | G12: =G10 -> 9 | H12: 4 | I12: =F12*G12*H12 -> 36 | J12: =F12*G12*H12 -> 36 | K12: =K10 -> 35.86 | L12: =I12*K12 -> 1290.96 | M12: =J12*K12 -> 1290.96
A13: 1.2.2 | C13: Parcela Vinculada
A14: 1.2.2.1 | C14: Equipe de obra de arte especial - Mobilização com o veic do encarreg | D14: 3 | E14: 0 | F14: =E14*D14 -> 0 | G14: 9 | H14: 4 | I14: =F14*G14*H14 -> 0 | J14: =F14*G14*H14 -> 0 | K14: =K10 -> 35.86 | L14: =I14*K14 -> 0 | M14: =J14*K14 -> 0
A15: 1.2.2.2 | C15: Equipe de topografia - Mobilização com a van | D15: 3 | E15: 0 | F15: =E15*D15 -> 0 | G15: 7 | H15: 1 | I15: =F15*G15*H15 -> 0 | J15: =F15*G15*H15 -> 0 | K15: =K10 -> 35.86 | L15: =I15*K15 -> 0 | M15: =J15*K15 -> 0
A16: 1.2.2.3 | C16: Equipe de medicina e segurança do trabalho | D16: 1 | E16: 1 | F16: =E16*D16 -> 1 | G16: 9 | H16: 1 | I16: =F16*G16*H16 -> 9 | J16: =F16*G16*H16 -> 9 | K16: =K10 -> 35.86 | L16: =I16*K16 -> 322.74 | M16: =J16*K16 -> 322.74
A17: 1.2.3 | C17: Parcela Variável
A18: 1.2.3.1 | C18: Equipe de acomp de frentes de serviço - Sem atividades | D18: 0 | E18: 1 | F18: =E18*D18 -> 0 | G18: =G10 -> 9 | H18: 1 | I18: =F18*G18*H18 -> 0 | J18: =F18*G18*H18 -> 0 | K18: =K10 -> 35.86 | L18: =I18*K18 -> 0 | M18: =J18*K18 -> 0
A19: 1.2.3.2 | C19: Equipe de controle tecnológico - Mobilização com a van | D19: 3 | E19: 1 | F19: =E19*D19 -> 3 | G19: 8 | H19: 1 | I19: =F19*G19*H19 -> 24 | J19: =F19*G19*H19 -> 24 | K19: =K10 -> 35.86 | L19: =I19*K19 -> 860.64 | M19: =J19*K19 -> 860.64
A20: 1.2.3.3 | C20: Equipe de manejo ambiental | D20: 0 | E20: 1 | F20: =E20*D20 -> 0 | G20: =G10 -> 9 | H20: 1 | I20: =F20*G20*H20 -> 0 | J20: =F20*G20*H20 -> 0 | K20: =K10 -> 35.86 | L20: =I20*K20 -> 0 | M20: =J20*K20 -> 0
A21: 1.2.4 | C21: Parcela da Mão de Obra Ordinária
A22: 1.2.4.1 | C22: Funcionários da mão de obra ordinária | D22: ='Canteiro Id'!G16 -> 24 | E22: 0.5 | F22: =E22*D22 -> 12 | G22: =G10 -> 9 | H22: 1 | I22: =F22*G22*H22 -> 108 | J22: =F22*G22*H22 -> 108 | K22: =K10 -> 35.86 | L22: =I22*K22 -> 3872.88 | M22: =J22*K22 -> 3872.88
K23: CUSTO DE MOBILIZAÇÃO/DESMOBILIZAÇÃO DE PESSOAL (TOTAL) | L23: =SUM(L8:L22) -> 7889.2 | M23: =SUM(M8:M22) -> 7889.2
K24: QUANTIDADES DE MOBILIZAÇÃO/DESMOBILIZAÇÃO (DEBANDAS) | L24: 4 | M24: 4
K25: CUSTO DE MOBILIZAÇÃO/DESMOBILIZAÇÃO DE PESSOAL (UNITÁRIA) | L25: =ROUND(L23/L24,2) -> 1972.3 | M25: =ROUND(M23/M24,2) -> 1972.3
A26: Obs: | B26: Deslocamento de Parcela Fixa e Parcela Vinculada
B27: Deslocamento local (Belo Horizonte - Nova Era): 139 km
G28: Passagem (Out/2022): R$ 39,12 x 0,9166 = R$ | L28: =39.12*110/120 -> 35.86

Sheet Mob Equipamento
A1: =Cronograma!A4 -> Obra: Ponte sob o rio Piracicaba | N1: ='Mob Pessoal'!M1 -> Governo de Minas Gerais
A2: =Cronograma!A5 -> Rodovia: Ligação entre Rua Quincas Honorato e Rua Rio Piracicaba | N2: ='Mob Pessoal'!M2 -> Prefeitura Municipal de Nova Era
A3: =Cronograma!A6 -> Trecho: Ponto localizado
A4: =Cronograma!A7 -> Coordenadas: 19°45'54.13"S / 43° 1'45.24"O | N4: ='Mob Pessoal'!M4 -> Mobilização de Pessoal
A5: ="Extensão: "&Resumo!B23&" - Largura: "&Resumo!E23 -> Extensão: 125,4 - Largura: 14 | N5: ='Mob Pessoal'!M5 -> Data base: Julho de 2022
A6: Item | B6: Discriminação | D6: Transp Rodov | F6: DMT (km) | H6: Tempo de viagem | I6: Descanso (0,5 H/4H) | J6: Quant. | K6: Fator K | L6: Custo Hor Veíc | M6: Custo Hor Mot | N6: Custo Total
B7: Cód | C7: Equipamento | D7: Cód | E7: FU | F7: Pavim | G7: Não Pav | J7: (unid) | K7: (Retorno)
A8: 1.4 | C8: Equipamentos do canteiro, rodantes e pesados
A9: 1.4.1 | C9: Equipamentos do canteiro
A10: 1.4.1.1 | B10: M0041 | C10: 1 TEU com 2 banheiros | D10: E9665 | E10: 0.5 | F10: 140 | G10: 0 | H10: =TRUNC((F10/60)+(G10/50),2) -> 2.33 | I10: =TRUNC(H10/4,0)*0.5 -> 0 | J10: 2 | K10: 2 | L10: =VLOOKUP(D10,Equipamento!$A$8:$E$91,4,0) -> 420.178 | M10: ='Mão de obra'!$E$15 -> 21.8058 | N10: =TRUNC(((H10*L10)+(I10*M10))*E10*J10*K10,2) -> 1958.02
A11: 1.4.1.2 | B11: M0042 | C11: 1 TEU com janela | D11: E9665 | E11: 0.5 | F11: =$F$10 -> 140 | G11: =$G$10 -> 0 | H11: =TRUNC((F11/60)+(G11/50),2) -> 2.33 | I11: =TRUNC(H11/4,0)*0.5 -> 0 | J11: 2 | K11: 2 | L11: =VLOOKUP(D11,Equipamento!$A$8:$E$91,4,0) -> 420.178 | M11: ='Mão de obra'!$E$15 -> 21.8058 | N11: =TRUNC(((H11*L11)+(I11*M11))*E11*J11*K11,2) -> 1958.02
A12: 1.4.1.3 | B12: M0057 | C12: 1 TEU duplo (6,0 m x 4,88 m) c/ jan | D12: E9665 | E12: 0.5 | F12: =$F$10 -> 140 | G12: =$G$10 -> 0 | H12: =TRUNC((F12/60)+(G12/50),2) -> 2.33 | I12: =TRUNC(H12/4,0)*0.5 -> 0 | J12: 2 | K12: 2 | L12: =VLOOKUP(D12,Equipamento!$A$8:$E$91,4,0) -> 420.178 | M12: ='Mão de obra'!$E$15 -> 21.8058 | N12: =TRUNC(((H12*L12)+(I12*M12))*E12*J12*K12,2) -> 1958.02
A13: 1.4.1.4 | B13: M0058 | C13: 1 TEU duplo (6,0 m x 4,88 m) c/ jan e 2 lav | D13: E9665 | E13: 0.5 | F13: =$F$10 -> 140 | G13: =$G$10 -> 0 | H13: =TRUNC((F13/60)+(G13/50),2) -> 2.33 | I13: =TRUNC(H13/4,0)*0.5 -> 0 | J13: 1 | K13: 2 | L13: =VLOOKUP(D13,Equipamento!$A$8:$E$91,4,0) -> 420.178 | M13: ='Mão de obra'!$E$15 -> 21.8058 | N13: =TRUNC(((H13*L13)+(I13*M13))*E13*J13*K13,2) -> 979.01
A14: 1.4.1.5 | B14: M0059 | C14: 1 TEU revest térm (ar cond) c/ jan e 1 ban | D14: E9665 | E14: 0.5 | F14: =$F$10 -> 140 | G14: =$G$10 -> 0 | H14: =TRUNC((F14/60)+(G14/50),2) -> 2.33 | I14: =TRUNC(H14/4,0)*0.5 -> 0 | J14: 1 | K14: 2 | L14: =VLOOKUP(D14,Equipamento!$A$8:$E$91,4,0) -> 420.178 | M14: ='Mão de obra'!$E$15 -> 21.8058 | N14: =TRUNC(((H14*L14)+(I14*M14))*E14*J14*K14,2) -> 979.01
A15: 1.4.1.6 | B15: M0066 | C15: 2 TEU revest térm (ar cond) c/ jan e 1 ban | D15: E9665 | E15: 1 | F15: =$F$10 -> 140 | G15: =$G$10 -> 0 | H15: =TRUNC((F15/60)+(G15/50),2) -> 2.33 | I15: =TRUNC(H15/4,0)*0.5 -> 0 | J15: 1 | K15: 2 | L15: =VLOOKUP(D15,Equipamento!$A$8:$E$91,4,0) -> 420.178 | M15: ='Mão de obra'!$E$15 -> 21.8058 | N15: =TRUNC(((H15*L15)+(I15*M15))*E15*J15*K15,2) -> 1958.02
A16: 1.4.1.7 | B16: M0071 | C16: 1/2 de 1 teu, com 3 janelas, para guarita | D16: E9665 | E16: 0.25 | F16: =$F$10 -> 140 | G16: =$G$10 -> 0 | H16: =TRUNC((F16/60)+(G16/50),2) -> 2.33 | I16: =TRUNC(H16/4,0)*0.5 -> 0 | J16: 1 | K16: 2 | L16: =VLOOKUP(D16,Equipamento!$A$8:$E$91,4,0) -> 420.178 | M16: ='Mão de obra'!$E$15 -> 21.8058 | N16: =TRUNC(((H16*L16)+(I16*M16))*E16*J16*K16,2) -> 489.5
A17: 1.4.2 | C17: Equipamentos rodantes
A18: 1.4.2.1 | B18: E9041 | C18: Caminhão carroceria com guindauto com capacidade de 45 t.m - 188 kW | D18: E9041 | E18: 1 | F18: =$F$10 -> 140 | G18: =$G$10 -> 0 | H18: =TRUNC((F18/60)+(G18/50),2) -> 2.33 | I18: =TRUNC(H18/4,0)*0.5 -> 0 | J18: 1 | K18: 1 | L18: =VLOOKUP(B18,Equipamento!$A$8:$E$91,4,0) -> 435.0321 | M18: ='Mão de obra'!$E$15 -> 21.8058 | N18: =TRUNC(((H18*L18)+(I18*M18))*E18*J18*K18,2) -> 1013.62
A19: 1.4.2.2 | B19: E9579 | C19: Caminhão basculante com capacidade de 10 m³ - 188 kW | D19: E9579 | E19: 1 | F19: =$F$10 -> 140 | G19: =$G$10 -> 0 | H19: =TRUNC((F19/60)+(G19/50),2) -> 2.33 | I19: =TRUNC(H19/4,0)*0.5 -> 0 | J19: 1 | K19: 1 | L19: =VLOOKUP(B19,Equipamento!$A$8:$E$91,4,0) -> 310.3252 | M19: ='Mão de obra'!$E$15 -> 21.8058 | N19: =TRUNC(((H19*L19)+(I19*M19))*E19*J19*K19,2) -> 723.05
A20: 1.4.2.3 | B20: E9592 | C20: Caminhão carroceria com capacidade de 15 t - 188 kW | D20: E9592 | E20: 1 | F20: =$F$10 -> 140 | G20: =$G$10 -> 0 | H20: =TRUNC((F20/60)+(G20/50),2) -> 2.33 | I20: =TRUNC(H20/4,0)*0.5 -> 0 | J20: 1 | K20: 1 | L20: =VLOOKUP(B20,Equipamento!$A$8:$E$91,4,0) -> 295.6863 | M20: ='Mão de obra'!$E$15 -> 21.8058 | N20: =TRUNC(((H20*L20)+(I20*M20))*E20*J20*K20,2) -> 688.94
A21: 1.4.2.4 | B21: E9667 | C21: Caminhão basculante com capacidade de 14 m³ - 323 kW | D21: E9667 | E21: 1 | F21: =$F$10 -> 140 | G21: =$G$10 -> 0 | H21: =TRUNC((F21/60)+(G21/50),2) -> 2.33 | I21: =TRUNC(H21/4,0)*0.5 -> 0 | J21: 1 | K21: 1 | L21: =VLOOKUP(B21,Equipamento!$A$8:$E$91,4,0) -> 314.1405 | M21: ='Mão de obra'!$E$15 -> 21.8058 | N21: =TRUNC(((H21*L21)+(I21*M21))*E21*J21*K21,2) -> 731.94
A22: 1.4.2.5 | B22: E9571 | C22: Caminhão tanque com capacidade de 10.000 l - 188 kW | D22: =B22 -> E9571 | E22: 1 | F22: =$F$10 -> 140 | G22: =$G$10 -> 0 | H22: =TRUNC((F22/60)+(G22/50),2) -> 2.33 | I22: =TRUNC(H22/4,0)*0.5 -> 0 | J22: 1 | K22: 1 | L22: =VLOOKUP(B22,Equipamento!$A$8:$E$91,4,0) -> 370.0178 | M22: ='Mão de obra'!$E$15 -> 21.8058 | N22: =TRUNC(((H22*L22)+(I22*M22))*E22*J22*K22,2) -> 862.14
A23: 1.4.2.6 | B23: E9605 | C23: Caminhão tanque com capacidade de 6.000 l - 136 kW | D23: =B23 -> E9605 | E23: 1 | F23: =$F$10 -> 140 | G23: =$G$10 -> 0 | H23: =TRUNC((F23/60)+(G23/50),2) -> 2.33 | I23: =TRUNC(H23/4,0)*0.5 -> 0 | J23: 1 | K23: 1 | L23: =VLOOKUP(B23,Equipamento!$A$8:$E$91,4,0) -> 280.837 | M23: ='Mão de obra'!$E$15 -> 21.8058 | N23: =TRUNC(((H23*L23)+(I23*M23))*E23*J23*K23,2) -> 654.35
A24: 1.4.2.7 | B24: E9125 | C24: Van furgão - 93 kW | D24: E9125 | E24: 1 | F24: =$F$10 -> 140 | G24: =$G$10 -> 0 | H24: =TRUNC((F24/60)+(G24/50),2) -> 2.33 | I24: =TRUNC(H24/4,0)*0.5 -> 0 | J24: 1 | K24: 1 | L24: =VLOOKUP(B24,Equipamento!$A$8:$E$91,4,0) -> 77.3436 | M24: ='Mão de obra'!$E$16 -> 21.8506 | N24: =TRUNC(((H24*L24)+(I24*M24))*E24*J24*K24,2) -> 180.21
A25: 1.4.2.8 | B25: E9512 | C25: Veículo leve - 53 kW | D25: E9512 | E25: 1 | F25: =$F$10 -> 140 | G25: =$G$10 -> 0 | H25: =TRUNC((F25/60)+(G25/50),2) -> 2.33 | I25: =TRUNC(H25/4,0)*0.5 -> 0 | J25: 1 | K25: 1 | L25: =VLOOKUP(B25,Equipamento!$A$8:$E$91,4,0) -> 64.2452 | M25: ='Mão de obra'!$E$16 -> 21.8506 | N25: =TRUNC(((H25*L25)+(I25*M25))*E25*J25*K25,2) -> 149.69
